BEGIN:VCALENDAR
VERSION:2.0
PRODID:-//Brealtv - ECPv6.10.3//NONSGML v1.0//EN
CALSCALE:GREGORIAN
METHOD:PUBLISH
X-WR-CALNAME:Brealtv
X-ORIGINAL-URL:https://breal.tv
X-WR-CALDESC:Events for Brealtv
REFRESH-INTERVAL;VALUE=DURATION:PT1H
X-Robots-Tag:noindex
X-PUBLISHED-TTL:PT1H
BEGIN:VTIMEZONE
TZID:America/Los_Angeles
BEGIN:DAYLIGHT
TZOFFSETFROM:-0800
TZOFFSETTO:-0700
TZNAME:PDT
DTSTART:20230312T100000
END:DAYLIGHT
BEGIN:STANDARD
TZOFFSETFROM:-0700
TZOFFSETTO:-0800
TZNAME:PST
DTSTART:20231105T090000
END:STANDARD
END:VTIMEZONE
BEGIN:VEVENT
DTSTART;TZID=America/Los_Angeles:20230317T160000
DTEND;TZID=America/Los_Angeles:20230317T180000
DTSTAMP:20260425T212122
CREATED:20230212T205857Z
LAST-MODIFIED:20230613T191441Z
UID:10000700-1679068800-1679076000@breal.tv
SUMMARY:Dr. Greenthumb Mix Show
DESCRIPTION:
URL:https://breal.tv/event/dr-greenthumb-mix-show-3/2023-03-17/
CATEGORIES:Dr. Greenthumb Mix Show
ATTACH;FMTTYPE=image/png:https://breal.tv/wp-content/uploads/2023/02/DGTMS_greenborder.png
END:VEVENT
BEGIN:VEVENT
DTSTART;TZID=America/Los_Angeles:20230321T160000
DTEND;TZID=America/Los_Angeles:20230321T170000
DTSTAMP:20260425T212122
CREATED:20230212T205654Z
LAST-MODIFIED:20230613T191922Z
UID:10000668-1679414400-1679418000@breal.tv
SUMMARY:Dr. Greenthumb Mix Show
DESCRIPTION:
URL:https://breal.tv/event/dr-greenthumb-mix-show/2023-03-21/
CATEGORIES:Dr. Greenthumb Mix Show
ATTACH;FMTTYPE=image/png:https://breal.tv/wp-content/uploads/2023/02/DGTMS_greenborder.png
END:VEVENT
BEGIN:VEVENT
DTSTART;TZID=America/Los_Angeles:20230323T160000
DTEND;TZID=America/Los_Angeles:20230323T170000
DTSTAMP:20260425T212122
CREATED:20230212T205755Z
LAST-MODIFIED:20230613T191704Z
UID:10000684-1679587200-1679590800@breal.tv
SUMMARY:Dr. Greenthumb Mix Show
DESCRIPTION:
URL:https://breal.tv/event/dr-greenthumb-mix-show-2/2023-03-23/
CATEGORIES:Dr. Greenthumb Mix Show
ATTACH;FMTTYPE=image/png:https://breal.tv/wp-content/uploads/2023/02/DGTMS_greenborder.png
END:VEVENT
BEGIN:VEVENT
DTSTART;TZID=America/Los_Angeles:20230324T160000
DTEND;TZID=America/Los_Angeles:20230324T180000
DTSTAMP:20260425T212122
CREATED:20230212T205857Z
LAST-MODIFIED:20230613T191441Z
UID:10000701-1679673600-1679680800@breal.tv
SUMMARY:Dr. Greenthumb Mix Show
DESCRIPTION:
URL:https://breal.tv/event/dr-greenthumb-mix-show-3/2023-03-24/
CATEGORIES:Dr. Greenthumb Mix Show
ATTACH;FMTTYPE=image/png:https://breal.tv/wp-content/uploads/2023/02/DGTMS_greenborder.png
END:VEVENT
BEGIN:VEVENT
DTSTART;TZID=America/Los_Angeles:20230328T160000
DTEND;TZID=America/Los_Angeles:20230328T170000
DTSTAMP:20260425T212122
CREATED:20230212T205654Z
LAST-MODIFIED:20230613T191922Z
UID:10000669-1680019200-1680022800@breal.tv
SUMMARY:Dr. Greenthumb Mix Show
DESCRIPTION:
URL:https://breal.tv/event/dr-greenthumb-mix-show/2023-03-28/
CATEGORIES:Dr. Greenthumb Mix Show
ATTACH;FMTTYPE=image/png:https://breal.tv/wp-content/uploads/2023/02/DGTMS_greenborder.png
END:VEVENT
BEGIN:VEVENT
DTSTART;TZID=America/Los_Angeles:20230330T160000
DTEND;TZID=America/Los_Angeles:20230330T170000
DTSTAMP:20260425T212122
CREATED:20230212T205755Z
LAST-MODIFIED:20230613T191704Z
UID:10000685-1680192000-1680195600@breal.tv
SUMMARY:Dr. Greenthumb Mix Show
DESCRIPTION:
URL:https://breal.tv/event/dr-greenthumb-mix-show-2/2023-03-30/
CATEGORIES:Dr. Greenthumb Mix Show
ATTACH;FMTTYPE=image/png:https://breal.tv/wp-content/uploads/2023/02/DGTMS_greenborder.png
END:VEVENT
BEGIN:VEVENT
DTSTART;TZID=America/Los_Angeles:20230331T160000
DTEND;TZID=America/Los_Angeles:20230331T180000
DTSTAMP:20260425T212122
CREATED:20230212T205857Z
LAST-MODIFIED:20230613T191441Z
UID:10000702-1680278400-1680285600@breal.tv
SUMMARY:Dr. Greenthumb Mix Show
DESCRIPTION:
URL:https://breal.tv/event/dr-greenthumb-mix-show-3/2023-03-31/
CATEGORIES:Dr. Greenthumb Mix Show
ATTACH;FMTTYPE=image/png:https://breal.tv/wp-content/uploads/2023/02/DGTMS_greenborder.png
END:VEVENT
BEGIN:VEVENT
DTSTART;TZID=America/Los_Angeles:20230404T160000
DTEND;TZID=America/Los_Angeles:20230404T170000
DTSTAMP:20260425T212122
CREATED:20230212T205654Z
LAST-MODIFIED:20230613T191922Z
UID:10000670-1680624000-1680627600@breal.tv
SUMMARY:Dr. Greenthumb Mix Show
DESCRIPTION:
URL:https://breal.tv/event/dr-greenthumb-mix-show/2023-04-04/
CATEGORIES:Dr. Greenthumb Mix Show
ATTACH;FMTTYPE=image/png:https://breal.tv/wp-content/uploads/2023/02/DGTMS_greenborder.png
END:VEVENT
BEGIN:VEVENT
DTSTART;TZID=America/Los_Angeles:20230406T160000
DTEND;TZID=America/Los_Angeles:20230406T170000
DTSTAMP:20260425T212122
CREATED:20230212T205755Z
LAST-MODIFIED:20230613T191704Z
UID:10000686-1680796800-1680800400@breal.tv
SUMMARY:Dr. Greenthumb Mix Show
DESCRIPTION:
URL:https://breal.tv/event/dr-greenthumb-mix-show-2/2023-04-06/
CATEGORIES:Dr. Greenthumb Mix Show
ATTACH;FMTTYPE=image/png:https://breal.tv/wp-content/uploads/2023/02/DGTMS_greenborder.png
END:VEVENT
BEGIN:VEVENT
DTSTART;TZID=America/Los_Angeles:20230407T160000
DTEND;TZID=America/Los_Angeles:20230407T180000
DTSTAMP:20260425T212122
CREATED:20230212T205857Z
LAST-MODIFIED:20230613T191441Z
UID:10000703-1680883200-1680890400@breal.tv
SUMMARY:Dr. Greenthumb Mix Show
DESCRIPTION:
URL:https://breal.tv/event/dr-greenthumb-mix-show-3/2023-04-07/
CATEGORIES:Dr. Greenthumb Mix Show
ATTACH;FMTTYPE=image/png:https://breal.tv/wp-content/uploads/2023/02/DGTMS_greenborder.png
END:VEVENT
BEGIN:VEVENT
DTSTART;TZID=America/Los_Angeles:20230411T160000
DTEND;TZID=America/Los_Angeles:20230411T170000
DTSTAMP:20260425T212123
CREATED:20230212T205654Z
LAST-MODIFIED:20230613T191922Z
UID:10000671-1681228800-1681232400@breal.tv
SUMMARY:Dr. Greenthumb Mix Show
DESCRIPTION:
URL:https://breal.tv/event/dr-greenthumb-mix-show/2023-04-11/
CATEGORIES:Dr. Greenthumb Mix Show
ATTACH;FMTTYPE=image/png:https://breal.tv/wp-content/uploads/2023/02/DGTMS_greenborder.png
END:VEVENT
BEGIN:VEVENT
DTSTART;TZID=America/Los_Angeles:20230413T160000
DTEND;TZID=America/Los_Angeles:20230413T170000
DTSTAMP:20260425T212123
CREATED:20230212T205755Z
LAST-MODIFIED:20230613T191704Z
UID:10000687-1681401600-1681405200@breal.tv
SUMMARY:Dr. Greenthumb Mix Show
DESCRIPTION:
URL:https://breal.tv/event/dr-greenthumb-mix-show-2/2023-04-13/
CATEGORIES:Dr. Greenthumb Mix Show
ATTACH;FMTTYPE=image/png:https://breal.tv/wp-content/uploads/2023/02/DGTMS_greenborder.png
END:VEVENT
BEGIN:VEVENT
DTSTART;TZID=America/Los_Angeles:20230414T160000
DTEND;TZID=America/Los_Angeles:20230414T180000
DTSTAMP:20260425T212123
CREATED:20230212T205857Z
LAST-MODIFIED:20230613T191441Z
UID:10000704-1681488000-1681495200@breal.tv
SUMMARY:Dr. Greenthumb Mix Show
DESCRIPTION:
URL:https://breal.tv/event/dr-greenthumb-mix-show-3/2023-04-14/
CATEGORIES:Dr. Greenthumb Mix Show
ATTACH;FMTTYPE=image/png:https://breal.tv/wp-content/uploads/2023/02/DGTMS_greenborder.png
END:VEVENT
BEGIN:VEVENT
DTSTART;TZID=America/Los_Angeles:20230418T160000
DTEND;TZID=America/Los_Angeles:20230418T170000
DTSTAMP:20260425T212123
CREATED:20230212T205654Z
LAST-MODIFIED:20230613T191922Z
UID:10000672-1681833600-1681837200@breal.tv
SUMMARY:Dr. Greenthumb Mix Show
DESCRIPTION:
URL:https://breal.tv/event/dr-greenthumb-mix-show/2023-04-18/
CATEGORIES:Dr. Greenthumb Mix Show
ATTACH;FMTTYPE=image/png:https://breal.tv/wp-content/uploads/2023/02/DGTMS_greenborder.png
END:VEVENT
BEGIN:VEVENT
DTSTART;TZID=America/Los_Angeles:20230420T160000
DTEND;TZID=America/Los_Angeles:20230420T170000
DTSTAMP:20260425T212123
CREATED:20230212T205755Z
LAST-MODIFIED:20230613T191704Z
UID:10000688-1682006400-1682010000@breal.tv
SUMMARY:Dr. Greenthumb Mix Show
DESCRIPTION:
URL:https://breal.tv/event/dr-greenthumb-mix-show-2/2023-04-20/
CATEGORIES:Dr. Greenthumb Mix Show
ATTACH;FMTTYPE=image/png:https://breal.tv/wp-content/uploads/2023/02/DGTMS_greenborder.png
END:VEVENT
BEGIN:VEVENT
DTSTART;TZID=America/Los_Angeles:20230421T160000
DTEND;TZID=America/Los_Angeles:20230421T180000
DTSTAMP:20260425T212123
CREATED:20230212T205857Z
LAST-MODIFIED:20230613T191441Z
UID:10000705-1682092800-1682100000@breal.tv
SUMMARY:Dr. Greenthumb Mix Show
DESCRIPTION:
URL:https://breal.tv/event/dr-greenthumb-mix-show-3/2023-04-21/
CATEGORIES:Dr. Greenthumb Mix Show
ATTACH;FMTTYPE=image/png:https://breal.tv/wp-content/uploads/2023/02/DGTMS_greenborder.png
END:VEVENT
BEGIN:VEVENT
DTSTART;TZID=America/Los_Angeles:20230425T160000
DTEND;TZID=America/Los_Angeles:20230425T170000
DTSTAMP:20260425T212123
CREATED:20230212T205654Z
LAST-MODIFIED:20230613T191922Z
UID:10000673-1682438400-1682442000@breal.tv
SUMMARY:Dr. Greenthumb Mix Show
DESCRIPTION:
URL:https://breal.tv/event/dr-greenthumb-mix-show/2023-04-25/
CATEGORIES:Dr. Greenthumb Mix Show
ATTACH;FMTTYPE=image/png:https://breal.tv/wp-content/uploads/2023/02/DGTMS_greenborder.png
END:VEVENT
BEGIN:VEVENT
DTSTART;TZID=America/Los_Angeles:20230427T160000
DTEND;TZID=America/Los_Angeles:20230427T170000
DTSTAMP:20260425T212123
CREATED:20230212T205755Z
LAST-MODIFIED:20230613T191704Z
UID:10000689-1682611200-1682614800@breal.tv
SUMMARY:Dr. Greenthumb Mix Show
DESCRIPTION:
URL:https://breal.tv/event/dr-greenthumb-mix-show-2/2023-04-27/
CATEGORIES:Dr. Greenthumb Mix Show
ATTACH;FMTTYPE=image/png:https://breal.tv/wp-content/uploads/2023/02/DGTMS_greenborder.png
END:VEVENT
BEGIN:VEVENT
DTSTART;TZID=America/Los_Angeles:20230428T160000
DTEND;TZID=America/Los_Angeles:20230428T180000
DTSTAMP:20260425T212123
CREATED:20230212T205857Z
LAST-MODIFIED:20230613T191441Z
UID:10000706-1682697600-1682704800@breal.tv
SUMMARY:Dr. Greenthumb Mix Show
DESCRIPTION:
URL:https://breal.tv/event/dr-greenthumb-mix-show-3/2023-04-28/
CATEGORIES:Dr. Greenthumb Mix Show
ATTACH;FMTTYPE=image/png:https://breal.tv/wp-content/uploads/2023/02/DGTMS_greenborder.png
END:VEVENT
BEGIN:VEVENT
DTSTART;TZID=America/Los_Angeles:20230502T160000
DTEND;TZID=America/Los_Angeles:20230502T170000
DTSTAMP:20260425T212123
CREATED:20230212T205654Z
LAST-MODIFIED:20230613T191922Z
UID:10000674-1683043200-1683046800@breal.tv
SUMMARY:Dr. Greenthumb Mix Show
DESCRIPTION:
URL:https://breal.tv/event/dr-greenthumb-mix-show/2023-05-02/
CATEGORIES:Dr. Greenthumb Mix Show
ATTACH;FMTTYPE=image/png:https://breal.tv/wp-content/uploads/2023/02/DGTMS_greenborder.png
END:VEVENT
BEGIN:VEVENT
DTSTART;TZID=America/Los_Angeles:20230504T160000
DTEND;TZID=America/Los_Angeles:20230504T170000
DTSTAMP:20260425T212123
CREATED:20230212T205755Z
LAST-MODIFIED:20230613T191704Z
UID:10000690-1683216000-1683219600@breal.tv
SUMMARY:Dr. Greenthumb Mix Show
DESCRIPTION:
URL:https://breal.tv/event/dr-greenthumb-mix-show-2/2023-05-04/
CATEGORIES:Dr. Greenthumb Mix Show
ATTACH;FMTTYPE=image/png:https://breal.tv/wp-content/uploads/2023/02/DGTMS_greenborder.png
END:VEVENT
BEGIN:VEVENT
DTSTART;TZID=America/Los_Angeles:20230505T160000
DTEND;TZID=America/Los_Angeles:20230505T180000
DTSTAMP:20260425T212123
CREATED:20230212T205857Z
LAST-MODIFIED:20230613T191441Z
UID:10000707-1683302400-1683309600@breal.tv
SUMMARY:Dr. Greenthumb Mix Show
DESCRIPTION:
URL:https://breal.tv/event/dr-greenthumb-mix-show-3/2023-05-05/
CATEGORIES:Dr. Greenthumb Mix Show
ATTACH;FMTTYPE=image/png:https://breal.tv/wp-content/uploads/2023/02/DGTMS_greenborder.png
END:VEVENT
BEGIN:VEVENT
DTSTART;TZID=America/Los_Angeles:20230509T160000
DTEND;TZID=America/Los_Angeles:20230509T170000
DTSTAMP:20260425T212123
CREATED:20230212T205654Z
LAST-MODIFIED:20230613T191922Z
UID:10000675-1683648000-1683651600@breal.tv
SUMMARY:Dr. Greenthumb Mix Show
DESCRIPTION:
URL:https://breal.tv/event/dr-greenthumb-mix-show/2023-05-09/
CATEGORIES:Dr. Greenthumb Mix Show
ATTACH;FMTTYPE=image/png:https://breal.tv/wp-content/uploads/2023/02/DGTMS_greenborder.png
END:VEVENT
BEGIN:VEVENT
DTSTART;TZID=America/Los_Angeles:20230511T160000
DTEND;TZID=America/Los_Angeles:20230511T170000
DTSTAMP:20260425T212123
CREATED:20230212T205755Z
LAST-MODIFIED:20230613T191704Z
UID:10000691-1683820800-1683824400@breal.tv
SUMMARY:Dr. Greenthumb Mix Show
DESCRIPTION:
URL:https://breal.tv/event/dr-greenthumb-mix-show-2/2023-05-11/
CATEGORIES:Dr. Greenthumb Mix Show
ATTACH;FMTTYPE=image/png:https://breal.tv/wp-content/uploads/2023/02/DGTMS_greenborder.png
END:VEVENT
BEGIN:VEVENT
DTSTART;TZID=America/Los_Angeles:20230512T160000
DTEND;TZID=America/Los_Angeles:20230512T180000
DTSTAMP:20260425T212123
CREATED:20230212T205857Z
LAST-MODIFIED:20230613T191441Z
UID:10000708-1683907200-1683914400@breal.tv
SUMMARY:Dr. Greenthumb Mix Show
DESCRIPTION:
URL:https://breal.tv/event/dr-greenthumb-mix-show-3/2023-05-12/
CATEGORIES:Dr. Greenthumb Mix Show
ATTACH;FMTTYPE=image/png:https://breal.tv/wp-content/uploads/2023/02/DGTMS_greenborder.png
END:VEVENT
BEGIN:VEVENT
DTSTART;TZID=America/Los_Angeles:20230516T160000
DTEND;TZID=America/Los_Angeles:20230516T170000
DTSTAMP:20260425T212123
CREATED:20230212T205654Z
LAST-MODIFIED:20230613T191922Z
UID:10000676-1684252800-1684256400@breal.tv
SUMMARY:Dr. Greenthumb Mix Show
DESCRIPTION:
URL:https://breal.tv/event/dr-greenthumb-mix-show/2023-05-16/
CATEGORIES:Dr. Greenthumb Mix Show
ATTACH;FMTTYPE=image/png:https://breal.tv/wp-content/uploads/2023/02/DGTMS_greenborder.png
END:VEVENT
BEGIN:VEVENT
DTSTART;TZID=America/Los_Angeles:20230518T160000
DTEND;TZID=America/Los_Angeles:20230518T170000
DTSTAMP:20260425T212123
CREATED:20230212T205755Z
LAST-MODIFIED:20230613T191704Z
UID:10000692-1684425600-1684429200@breal.tv
SUMMARY:Dr. Greenthumb Mix Show
DESCRIPTION:
URL:https://breal.tv/event/dr-greenthumb-mix-show-2/2023-05-18/
CATEGORIES:Dr. Greenthumb Mix Show
ATTACH;FMTTYPE=image/png:https://breal.tv/wp-content/uploads/2023/02/DGTMS_greenborder.png
END:VEVENT
BEGIN:VEVENT
DTSTART;TZID=America/Los_Angeles:20230519T160000
DTEND;TZID=America/Los_Angeles:20230519T180000
DTSTAMP:20260425T212123
CREATED:20230212T205857Z
LAST-MODIFIED:20230613T191441Z
UID:10000709-1684512000-1684519200@breal.tv
SUMMARY:Dr. Greenthumb Mix Show
DESCRIPTION:
URL:https://breal.tv/event/dr-greenthumb-mix-show-3/2023-05-19/
CATEGORIES:Dr. Greenthumb Mix Show
ATTACH;FMTTYPE=image/png:https://breal.tv/wp-content/uploads/2023/02/DGTMS_greenborder.png
END:VEVENT
BEGIN:VEVENT
DTSTART;TZID=America/Los_Angeles:20230523T160000
DTEND;TZID=America/Los_Angeles:20230523T170000
DTSTAMP:20260425T212123
CREATED:20230212T205654Z
LAST-MODIFIED:20230613T191922Z
UID:10000677-1684857600-1684861200@breal.tv
SUMMARY:Dr. Greenthumb Mix Show
DESCRIPTION:
URL:https://breal.tv/event/dr-greenthumb-mix-show/2023-05-23/
CATEGORIES:Dr. Greenthumb Mix Show
ATTACH;FMTTYPE=image/png:https://breal.tv/wp-content/uploads/2023/02/DGTMS_greenborder.png
END:VEVENT
BEGIN:VEVENT
DTSTART;TZID=America/Los_Angeles:20230525T160000
DTEND;TZID=America/Los_Angeles:20230525T170000
DTSTAMP:20260425T212123
CREATED:20230212T205755Z
LAST-MODIFIED:20230613T191704Z
UID:10000693-1685030400-1685034000@breal.tv
SUMMARY:Dr. Greenthumb Mix Show
DESCRIPTION:
URL:https://breal.tv/event/dr-greenthumb-mix-show-2/2023-05-25/
CATEGORIES:Dr. Greenthumb Mix Show
ATTACH;FMTTYPE=image/png:https://breal.tv/wp-content/uploads/2023/02/DGTMS_greenborder.png
END:VEVENT
END:VCALENDAR