BEGIN:VCALENDAR
VERSION:2.0
PRODID:-//Brealtv - ECPv6.10.3//NONSGML v1.0//EN
CALSCALE:GREGORIAN
METHOD:PUBLISH
X-WR-CALNAME:Brealtv
X-ORIGINAL-URL:https://breal.tv
X-WR-CALDESC:Events for Brealtv
REFRESH-INTERVAL;VALUE=DURATION:PT1H
X-Robots-Tag:noindex
X-PUBLISHED-TTL:PT1H
BEGIN:VTIMEZONE
TZID:America/Los_Angeles
BEGIN:DAYLIGHT
TZOFFSETFROM:-0800
TZOFFSETTO:-0700
TZNAME:PDT
DTSTART:20250309T100000
END:DAYLIGHT
BEGIN:STANDARD
TZOFFSETFROM:-0700
TZOFFSETTO:-0800
TZNAME:PST
DTSTART:20251102T090000
END:STANDARD
END:VTIMEZONE
BEGIN:VEVENT
DTSTART;TZID=America/Los_Angeles:20251117T140000
DTEND;TZID=America/Los_Angeles:20251117T160000
DTSTAMP:20260425T165124
CREATED:20230212T204113Z
LAST-MODIFIED:20230613T192052Z
UID:10002677-1763388000-1763395200@breal.tv
SUMMARY:Dr. Greenthumb Show
DESCRIPTION:
URL:https://breal.tv/event/dr-greenthumb-show/2025-11-17/
CATEGORIES:Dr. Greenthumb Show
ATTACH;FMTTYPE=image/png:https://breal.tv/wp-content/uploads/2023/02/DGTS_testcoin.png
END:VEVENT
BEGIN:VEVENT
DTSTART;TZID=America/Los_Angeles:20251118T140000
DTEND;TZID=America/Los_Angeles:20251118T160000
DTSTAMP:20260425T165124
CREATED:20230212T204655Z
LAST-MODIFIED:20230613T192003Z
UID:10002415-1763474400-1763481600@breal.tv
SUMMARY:Dr. Greenthumb Show
DESCRIPTION:
URL:https://breal.tv/event/dr-greenthumb-show-2/2025-11-18/
CATEGORIES:Dr. Greenthumb Show
ATTACH;FMTTYPE=image/png:https://breal.tv/wp-content/uploads/2023/02/DGTS_testcoin.png
END:VEVENT
BEGIN:VEVENT
DTSTART;TZID=America/Los_Angeles:20251119T140000
DTEND;TZID=America/Los_Angeles:20251119T160000
DTSTAMP:20260425T165124
CREATED:20230212T204755Z
LAST-MODIFIED:20230613T191844Z
UID:10001891-1763560800-1763568000@breal.tv
SUMMARY:Dr. Greenthumb Show
DESCRIPTION:
URL:https://breal.tv/event/dr-greenthumb-show-3/2025-11-19/
CATEGORIES:Dr. Greenthumb Show
ATTACH;FMTTYPE=image/png:https://breal.tv/wp-content/uploads/2023/02/DGTS_testcoin.png
END:VEVENT
BEGIN:VEVENT
DTSTART;TZID=America/Los_Angeles:20251120T140000
DTEND;TZID=America/Los_Angeles:20251120T160000
DTSTAMP:20260425T165124
CREATED:20230212T205406Z
LAST-MODIFIED:20230613T191748Z
UID:10001630-1763647200-1763654400@breal.tv
SUMMARY:Dr. Greenthumb Show
DESCRIPTION:
URL:https://breal.tv/event/dr-greenthumb-show-4/2025-11-20/
CATEGORIES:Dr. Greenthumb Show
ATTACH;FMTTYPE=image/png:https://breal.tv/wp-content/uploads/2023/02/DGTS_testcoin.png
END:VEVENT
BEGIN:VEVENT
DTSTART;TZID=America/Los_Angeles:20251121T140000
DTEND;TZID=America/Los_Angeles:20251121T160000
DTSTAMP:20260425T165124
CREATED:20230212T205505Z
LAST-MODIFIED:20230613T191616Z
UID:10001108-1763733600-1763740800@breal.tv
SUMMARY:Dr. Greenthumb Show
DESCRIPTION:
URL:https://breal.tv/event/dr-greenthumb-show-5/2025-11-21/
CATEGORIES:Dr. Greenthumb Show
ATTACH;FMTTYPE=image/png:https://breal.tv/wp-content/uploads/2023/02/DGTS_testcoin.png
END:VEVENT
BEGIN:VEVENT
DTSTART;TZID=America/Los_Angeles:20251124T140000
DTEND;TZID=America/Los_Angeles:20251124T160000
DTSTAMP:20260425T165124
CREATED:20230212T204113Z
LAST-MODIFIED:20230613T192052Z
UID:10002678-1763992800-1764000000@breal.tv
SUMMARY:Dr. Greenthumb Show
DESCRIPTION:
URL:https://breal.tv/event/dr-greenthumb-show/2025-11-24/
CATEGORIES:Dr. Greenthumb Show
ATTACH;FMTTYPE=image/png:https://breal.tv/wp-content/uploads/2023/02/DGTS_testcoin.png
END:VEVENT
BEGIN:VEVENT
DTSTART;TZID=America/Los_Angeles:20251125T140000
DTEND;TZID=America/Los_Angeles:20251125T160000
DTSTAMP:20260425T165124
CREATED:20230212T204655Z
LAST-MODIFIED:20230613T192003Z
UID:10002416-1764079200-1764086400@breal.tv
SUMMARY:Dr. Greenthumb Show
DESCRIPTION:
URL:https://breal.tv/event/dr-greenthumb-show-2/2025-11-25/
CATEGORIES:Dr. Greenthumb Show
ATTACH;FMTTYPE=image/png:https://breal.tv/wp-content/uploads/2023/02/DGTS_testcoin.png
END:VEVENT
BEGIN:VEVENT
DTSTART;TZID=America/Los_Angeles:20251126T140000
DTEND;TZID=America/Los_Angeles:20251126T160000
DTSTAMP:20260425T165124
CREATED:20230212T204755Z
LAST-MODIFIED:20230613T191844Z
UID:10001892-1764165600-1764172800@breal.tv
SUMMARY:Dr. Greenthumb Show
DESCRIPTION:
URL:https://breal.tv/event/dr-greenthumb-show-3/2025-11-26/
CATEGORIES:Dr. Greenthumb Show
ATTACH;FMTTYPE=image/png:https://breal.tv/wp-content/uploads/2023/02/DGTS_testcoin.png
END:VEVENT
BEGIN:VEVENT
DTSTART;TZID=America/Los_Angeles:20251127T140000
DTEND;TZID=America/Los_Angeles:20251127T160000
DTSTAMP:20260425T165124
CREATED:20230212T205406Z
LAST-MODIFIED:20230613T191748Z
UID:10001631-1764252000-1764259200@breal.tv
SUMMARY:Dr. Greenthumb Show
DESCRIPTION:
URL:https://breal.tv/event/dr-greenthumb-show-4/2025-11-27/
CATEGORIES:Dr. Greenthumb Show
ATTACH;FMTTYPE=image/png:https://breal.tv/wp-content/uploads/2023/02/DGTS_testcoin.png
END:VEVENT
BEGIN:VEVENT
DTSTART;TZID=America/Los_Angeles:20251128T140000
DTEND;TZID=America/Los_Angeles:20251128T160000
DTSTAMP:20260425T165124
CREATED:20230212T205505Z
LAST-MODIFIED:20230613T191616Z
UID:10001109-1764338400-1764345600@breal.tv
SUMMARY:Dr. Greenthumb Show
DESCRIPTION:
URL:https://breal.tv/event/dr-greenthumb-show-5/2025-11-28/
CATEGORIES:Dr. Greenthumb Show
ATTACH;FMTTYPE=image/png:https://breal.tv/wp-content/uploads/2023/02/DGTS_testcoin.png
END:VEVENT
BEGIN:VEVENT
DTSTART;TZID=America/Los_Angeles:20251201T140000
DTEND;TZID=America/Los_Angeles:20251201T160000
DTSTAMP:20260425T165124
CREATED:20230212T204113Z
LAST-MODIFIED:20230613T192052Z
UID:10002679-1764597600-1764604800@breal.tv
SUMMARY:Dr. Greenthumb Show
DESCRIPTION:
URL:https://breal.tv/event/dr-greenthumb-show/2025-12-01/
CATEGORIES:Dr. Greenthumb Show
ATTACH;FMTTYPE=image/png:https://breal.tv/wp-content/uploads/2023/02/DGTS_testcoin.png
END:VEVENT
BEGIN:VEVENT
DTSTART;TZID=America/Los_Angeles:20251202T140000
DTEND;TZID=America/Los_Angeles:20251202T160000
DTSTAMP:20260425T165124
CREATED:20230212T204655Z
LAST-MODIFIED:20230613T192003Z
UID:10002417-1764684000-1764691200@breal.tv
SUMMARY:Dr. Greenthumb Show
DESCRIPTION:
URL:https://breal.tv/event/dr-greenthumb-show-2/2025-12-02/
CATEGORIES:Dr. Greenthumb Show
ATTACH;FMTTYPE=image/png:https://breal.tv/wp-content/uploads/2023/02/DGTS_testcoin.png
END:VEVENT
BEGIN:VEVENT
DTSTART;TZID=America/Los_Angeles:20251203T140000
DTEND;TZID=America/Los_Angeles:20251203T160000
DTSTAMP:20260425T165124
CREATED:20230212T204755Z
LAST-MODIFIED:20230613T191844Z
UID:10001893-1764770400-1764777600@breal.tv
SUMMARY:Dr. Greenthumb Show
DESCRIPTION:
URL:https://breal.tv/event/dr-greenthumb-show-3/2025-12-03/
CATEGORIES:Dr. Greenthumb Show
ATTACH;FMTTYPE=image/png:https://breal.tv/wp-content/uploads/2023/02/DGTS_testcoin.png
END:VEVENT
BEGIN:VEVENT
DTSTART;TZID=America/Los_Angeles:20251204T140000
DTEND;TZID=America/Los_Angeles:20251204T160000
DTSTAMP:20260425T165124
CREATED:20230212T205406Z
LAST-MODIFIED:20230613T191748Z
UID:10001632-1764856800-1764864000@breal.tv
SUMMARY:Dr. Greenthumb Show
DESCRIPTION:
URL:https://breal.tv/event/dr-greenthumb-show-4/2025-12-04/
CATEGORIES:Dr. Greenthumb Show
ATTACH;FMTTYPE=image/png:https://breal.tv/wp-content/uploads/2023/02/DGTS_testcoin.png
END:VEVENT
BEGIN:VEVENT
DTSTART;TZID=America/Los_Angeles:20251205T140000
DTEND;TZID=America/Los_Angeles:20251205T160000
DTSTAMP:20260425T165124
CREATED:20230212T205505Z
LAST-MODIFIED:20230613T191616Z
UID:10001110-1764943200-1764950400@breal.tv
SUMMARY:Dr. Greenthumb Show
DESCRIPTION:
URL:https://breal.tv/event/dr-greenthumb-show-5/2025-12-05/
CATEGORIES:Dr. Greenthumb Show
ATTACH;FMTTYPE=image/png:https://breal.tv/wp-content/uploads/2023/02/DGTS_testcoin.png
END:VEVENT
BEGIN:VEVENT
DTSTART;TZID=America/Los_Angeles:20251208T140000
DTEND;TZID=America/Los_Angeles:20251208T160000
DTSTAMP:20260425T165124
CREATED:20230212T204113Z
LAST-MODIFIED:20230613T192052Z
UID:10002680-1765202400-1765209600@breal.tv
SUMMARY:Dr. Greenthumb Show
DESCRIPTION:
URL:https://breal.tv/event/dr-greenthumb-show/2025-12-08/
CATEGORIES:Dr. Greenthumb Show
ATTACH;FMTTYPE=image/png:https://breal.tv/wp-content/uploads/2023/02/DGTS_testcoin.png
END:VEVENT
BEGIN:VEVENT
DTSTART;TZID=America/Los_Angeles:20251209T140000
DTEND;TZID=America/Los_Angeles:20251209T160000
DTSTAMP:20260425T165124
CREATED:20230212T204655Z
LAST-MODIFIED:20230613T192003Z
UID:10002418-1765288800-1765296000@breal.tv
SUMMARY:Dr. Greenthumb Show
DESCRIPTION:
URL:https://breal.tv/event/dr-greenthumb-show-2/2025-12-09/
CATEGORIES:Dr. Greenthumb Show
ATTACH;FMTTYPE=image/png:https://breal.tv/wp-content/uploads/2023/02/DGTS_testcoin.png
END:VEVENT
BEGIN:VEVENT
DTSTART;TZID=America/Los_Angeles:20251210T140000
DTEND;TZID=America/Los_Angeles:20251210T160000
DTSTAMP:20260425T165124
CREATED:20230212T204755Z
LAST-MODIFIED:20230613T191844Z
UID:10001894-1765375200-1765382400@breal.tv
SUMMARY:Dr. Greenthumb Show
DESCRIPTION:
URL:https://breal.tv/event/dr-greenthumb-show-3/2025-12-10/
CATEGORIES:Dr. Greenthumb Show
ATTACH;FMTTYPE=image/png:https://breal.tv/wp-content/uploads/2023/02/DGTS_testcoin.png
END:VEVENT
BEGIN:VEVENT
DTSTART;TZID=America/Los_Angeles:20251211T140000
DTEND;TZID=America/Los_Angeles:20251211T160000
DTSTAMP:20260425T165124
CREATED:20230212T205406Z
LAST-MODIFIED:20230613T191748Z
UID:10001633-1765461600-1765468800@breal.tv
SUMMARY:Dr. Greenthumb Show
DESCRIPTION:
URL:https://breal.tv/event/dr-greenthumb-show-4/2025-12-11/
CATEGORIES:Dr. Greenthumb Show
ATTACH;FMTTYPE=image/png:https://breal.tv/wp-content/uploads/2023/02/DGTS_testcoin.png
END:VEVENT
BEGIN:VEVENT
DTSTART;TZID=America/Los_Angeles:20251212T140000
DTEND;TZID=America/Los_Angeles:20251212T160000
DTSTAMP:20260425T165125
CREATED:20230212T205505Z
LAST-MODIFIED:20230613T191616Z
UID:10001111-1765548000-1765555200@breal.tv
SUMMARY:Dr. Greenthumb Show
DESCRIPTION:
URL:https://breal.tv/event/dr-greenthumb-show-5/2025-12-12/
CATEGORIES:Dr. Greenthumb Show
ATTACH;FMTTYPE=image/png:https://breal.tv/wp-content/uploads/2023/02/DGTS_testcoin.png
END:VEVENT
BEGIN:VEVENT
DTSTART;TZID=America/Los_Angeles:20251215T140000
DTEND;TZID=America/Los_Angeles:20251215T160000
DTSTAMP:20260425T165125
CREATED:20230212T204113Z
LAST-MODIFIED:20230613T192052Z
UID:10002681-1765807200-1765814400@breal.tv
SUMMARY:Dr. Greenthumb Show
DESCRIPTION:
URL:https://breal.tv/event/dr-greenthumb-show/2025-12-15/
CATEGORIES:Dr. Greenthumb Show
ATTACH;FMTTYPE=image/png:https://breal.tv/wp-content/uploads/2023/02/DGTS_testcoin.png
END:VEVENT
BEGIN:VEVENT
DTSTART;TZID=America/Los_Angeles:20251216T140000
DTEND;TZID=America/Los_Angeles:20251216T160000
DTSTAMP:20260425T165125
CREATED:20230212T204655Z
LAST-MODIFIED:20230613T192003Z
UID:10002419-1765893600-1765900800@breal.tv
SUMMARY:Dr. Greenthumb Show
DESCRIPTION:
URL:https://breal.tv/event/dr-greenthumb-show-2/2025-12-16/
CATEGORIES:Dr. Greenthumb Show
ATTACH;FMTTYPE=image/png:https://breal.tv/wp-content/uploads/2023/02/DGTS_testcoin.png
END:VEVENT
BEGIN:VEVENT
DTSTART;TZID=America/Los_Angeles:20251217T140000
DTEND;TZID=America/Los_Angeles:20251217T160000
DTSTAMP:20260425T165125
CREATED:20230212T204755Z
LAST-MODIFIED:20230613T191844Z
UID:10001895-1765980000-1765987200@breal.tv
SUMMARY:Dr. Greenthumb Show
DESCRIPTION:
URL:https://breal.tv/event/dr-greenthumb-show-3/2025-12-17/
CATEGORIES:Dr. Greenthumb Show
ATTACH;FMTTYPE=image/png:https://breal.tv/wp-content/uploads/2023/02/DGTS_testcoin.png
END:VEVENT
BEGIN:VEVENT
DTSTART;TZID=America/Los_Angeles:20251218T140000
DTEND;TZID=America/Los_Angeles:20251218T160000
DTSTAMP:20260425T165125
CREATED:20230212T205406Z
LAST-MODIFIED:20230613T191748Z
UID:10001634-1766066400-1766073600@breal.tv
SUMMARY:Dr. Greenthumb Show
DESCRIPTION:
URL:https://breal.tv/event/dr-greenthumb-show-4/2025-12-18/
CATEGORIES:Dr. Greenthumb Show
ATTACH;FMTTYPE=image/png:https://breal.tv/wp-content/uploads/2023/02/DGTS_testcoin.png
END:VEVENT
BEGIN:VEVENT
DTSTART;TZID=America/Los_Angeles:20251219T140000
DTEND;TZID=America/Los_Angeles:20251219T160000
DTSTAMP:20260425T165125
CREATED:20230212T205505Z
LAST-MODIFIED:20230613T191616Z
UID:10001112-1766152800-1766160000@breal.tv
SUMMARY:Dr. Greenthumb Show
DESCRIPTION:
URL:https://breal.tv/event/dr-greenthumb-show-5/2025-12-19/
CATEGORIES:Dr. Greenthumb Show
ATTACH;FMTTYPE=image/png:https://breal.tv/wp-content/uploads/2023/02/DGTS_testcoin.png
END:VEVENT
BEGIN:VEVENT
DTSTART;TZID=America/Los_Angeles:20251222T140000
DTEND;TZID=America/Los_Angeles:20251222T160000
DTSTAMP:20260425T165125
CREATED:20230212T204113Z
LAST-MODIFIED:20230613T192052Z
UID:10002682-1766412000-1766419200@breal.tv
SUMMARY:Dr. Greenthumb Show
DESCRIPTION:
URL:https://breal.tv/event/dr-greenthumb-show/2025-12-22/
CATEGORIES:Dr. Greenthumb Show
ATTACH;FMTTYPE=image/png:https://breal.tv/wp-content/uploads/2023/02/DGTS_testcoin.png
END:VEVENT
BEGIN:VEVENT
DTSTART;TZID=America/Los_Angeles:20251223T140000
DTEND;TZID=America/Los_Angeles:20251223T160000
DTSTAMP:20260425T165125
CREATED:20230212T204655Z
LAST-MODIFIED:20230613T192003Z
UID:10002420-1766498400-1766505600@breal.tv
SUMMARY:Dr. Greenthumb Show
DESCRIPTION:
URL:https://breal.tv/event/dr-greenthumb-show-2/2025-12-23/
CATEGORIES:Dr. Greenthumb Show
ATTACH;FMTTYPE=image/png:https://breal.tv/wp-content/uploads/2023/02/DGTS_testcoin.png
END:VEVENT
BEGIN:VEVENT
DTSTART;TZID=America/Los_Angeles:20251224T140000
DTEND;TZID=America/Los_Angeles:20251224T160000
DTSTAMP:20260425T165125
CREATED:20230212T204755Z
LAST-MODIFIED:20230613T191844Z
UID:10001896-1766584800-1766592000@breal.tv
SUMMARY:Dr. Greenthumb Show
DESCRIPTION:
URL:https://breal.tv/event/dr-greenthumb-show-3/2025-12-24/
CATEGORIES:Dr. Greenthumb Show
ATTACH;FMTTYPE=image/png:https://breal.tv/wp-content/uploads/2023/02/DGTS_testcoin.png
END:VEVENT
BEGIN:VEVENT
DTSTART;TZID=America/Los_Angeles:20251225T140000
DTEND;TZID=America/Los_Angeles:20251225T160000
DTSTAMP:20260425T165125
CREATED:20230212T205406Z
LAST-MODIFIED:20230613T191748Z
UID:10001635-1766671200-1766678400@breal.tv
SUMMARY:Dr. Greenthumb Show
DESCRIPTION:
URL:https://breal.tv/event/dr-greenthumb-show-4/2025-12-25/
CATEGORIES:Dr. Greenthumb Show
ATTACH;FMTTYPE=image/png:https://breal.tv/wp-content/uploads/2023/02/DGTS_testcoin.png
END:VEVENT
BEGIN:VEVENT
DTSTART;TZID=America/Los_Angeles:20251226T140000
DTEND;TZID=America/Los_Angeles:20251226T160000
DTSTAMP:20260425T165125
CREATED:20230212T205505Z
LAST-MODIFIED:20230613T191616Z
UID:10001113-1766757600-1766764800@breal.tv
SUMMARY:Dr. Greenthumb Show
DESCRIPTION:
URL:https://breal.tv/event/dr-greenthumb-show-5/2025-12-26/
CATEGORIES:Dr. Greenthumb Show
ATTACH;FMTTYPE=image/png:https://breal.tv/wp-content/uploads/2023/02/DGTS_testcoin.png
END:VEVENT
END:VCALENDAR