BEGIN:VCALENDAR
VERSION:2.0
PRODID:-//Brealtv - ECPv6.10.3//NONSGML v1.0//EN
CALSCALE:GREGORIAN
METHOD:PUBLISH
X-WR-CALNAME:Brealtv
X-ORIGINAL-URL:https://breal.tv
X-WR-CALDESC:Events for Brealtv
REFRESH-INTERVAL;VALUE=DURATION:PT1H
X-Robots-Tag:noindex
X-PUBLISHED-TTL:PT1H
BEGIN:VTIMEZONE
TZID:America/Los_Angeles
BEGIN:DAYLIGHT
TZOFFSETFROM:-0800
TZOFFSETTO:-0700
TZNAME:PDT
DTSTART:20280312T100000
END:DAYLIGHT
BEGIN:STANDARD
TZOFFSETFROM:-0700
TZOFFSETTO:-0800
TZNAME:PST
DTSTART:20281105T090000
END:STANDARD
END:VTIMEZONE
BEGIN:VEVENT
DTSTART;TZID=America/Los_Angeles:20280310T140000
DTEND;TZID=America/Los_Angeles:20280310T160000
DTSTAMP:20260421T214703
CREATED:20230212T205505Z
LAST-MODIFIED:20230613T191616Z
UID:10001228-1836309600-1836316800@breal.tv
SUMMARY:Dr. Greenthumb Show
DESCRIPTION:
URL:https://breal.tv/event/dr-greenthumb-show-5/2028-03-10/
CATEGORIES:Dr. Greenthumb Show
ATTACH;FMTTYPE=image/png:https://breal.tv/wp-content/uploads/2023/02/DGTS_testcoin.png
END:VEVENT
BEGIN:VEVENT
DTSTART;TZID=America/Los_Angeles:20280313T140000
DTEND;TZID=America/Los_Angeles:20280313T160000
DTSTAMP:20260421T214703
CREATED:20230212T204113Z
LAST-MODIFIED:20230613T192052Z
UID:10002798-1836568800-1836576000@breal.tv
SUMMARY:Dr. Greenthumb Show
DESCRIPTION:
URL:https://breal.tv/event/dr-greenthumb-show/2028-03-13/
CATEGORIES:Dr. Greenthumb Show
ATTACH;FMTTYPE=image/png:https://breal.tv/wp-content/uploads/2023/02/DGTS_testcoin.png
END:VEVENT
BEGIN:VEVENT
DTSTART;TZID=America/Los_Angeles:20280314T140000
DTEND;TZID=America/Los_Angeles:20280314T160000
DTSTAMP:20260421T214703
CREATED:20230212T204655Z
LAST-MODIFIED:20230613T192003Z
UID:10002536-1836655200-1836662400@breal.tv
SUMMARY:Dr. Greenthumb Show
DESCRIPTION:
URL:https://breal.tv/event/dr-greenthumb-show-2/2028-03-14/
CATEGORIES:Dr. Greenthumb Show
ATTACH;FMTTYPE=image/png:https://breal.tv/wp-content/uploads/2023/02/DGTS_testcoin.png
END:VEVENT
BEGIN:VEVENT
DTSTART;TZID=America/Los_Angeles:20280315T140000
DTEND;TZID=America/Los_Angeles:20280315T160000
DTSTAMP:20260421T214703
CREATED:20230212T204755Z
LAST-MODIFIED:20230613T191844Z
UID:10002012-1836741600-1836748800@breal.tv
SUMMARY:Dr. Greenthumb Show
DESCRIPTION:
URL:https://breal.tv/event/dr-greenthumb-show-3/2028-03-15/
CATEGORIES:Dr. Greenthumb Show
ATTACH;FMTTYPE=image/png:https://breal.tv/wp-content/uploads/2023/02/DGTS_testcoin.png
END:VEVENT
BEGIN:VEVENT
DTSTART;TZID=America/Los_Angeles:20280316T140000
DTEND;TZID=America/Los_Angeles:20280316T160000
DTSTAMP:20260421T214703
CREATED:20230212T205406Z
LAST-MODIFIED:20230613T191748Z
UID:10001751-1836828000-1836835200@breal.tv
SUMMARY:Dr. Greenthumb Show
DESCRIPTION:
URL:https://breal.tv/event/dr-greenthumb-show-4/2028-03-16/
CATEGORIES:Dr. Greenthumb Show
ATTACH;FMTTYPE=image/png:https://breal.tv/wp-content/uploads/2023/02/DGTS_testcoin.png
END:VEVENT
BEGIN:VEVENT
DTSTART;TZID=America/Los_Angeles:20280317T140000
DTEND;TZID=America/Los_Angeles:20280317T160000
DTSTAMP:20260421T214703
CREATED:20230212T205505Z
LAST-MODIFIED:20230613T191616Z
UID:10001229-1836914400-1836921600@breal.tv
SUMMARY:Dr. Greenthumb Show
DESCRIPTION:
URL:https://breal.tv/event/dr-greenthumb-show-5/2028-03-17/
CATEGORIES:Dr. Greenthumb Show
ATTACH;FMTTYPE=image/png:https://breal.tv/wp-content/uploads/2023/02/DGTS_testcoin.png
END:VEVENT
BEGIN:VEVENT
DTSTART;TZID=America/Los_Angeles:20280320T140000
DTEND;TZID=America/Los_Angeles:20280320T160000
DTSTAMP:20260421T214703
CREATED:20230212T204113Z
LAST-MODIFIED:20230613T192052Z
UID:10002799-1837173600-1837180800@breal.tv
SUMMARY:Dr. Greenthumb Show
DESCRIPTION:
URL:https://breal.tv/event/dr-greenthumb-show/2028-03-20/
CATEGORIES:Dr. Greenthumb Show
ATTACH;FMTTYPE=image/png:https://breal.tv/wp-content/uploads/2023/02/DGTS_testcoin.png
END:VEVENT
BEGIN:VEVENT
DTSTART;TZID=America/Los_Angeles:20280321T140000
DTEND;TZID=America/Los_Angeles:20280321T160000
DTSTAMP:20260421T214703
CREATED:20230212T204655Z
LAST-MODIFIED:20230613T192003Z
UID:10002537-1837260000-1837267200@breal.tv
SUMMARY:Dr. Greenthumb Show
DESCRIPTION:
URL:https://breal.tv/event/dr-greenthumb-show-2/2028-03-21/
CATEGORIES:Dr. Greenthumb Show
ATTACH;FMTTYPE=image/png:https://breal.tv/wp-content/uploads/2023/02/DGTS_testcoin.png
END:VEVENT
BEGIN:VEVENT
DTSTART;TZID=America/Los_Angeles:20280322T140000
DTEND;TZID=America/Los_Angeles:20280322T160000
DTSTAMP:20260421T214703
CREATED:20230212T204755Z
LAST-MODIFIED:20230613T191844Z
UID:10002013-1837346400-1837353600@breal.tv
SUMMARY:Dr. Greenthumb Show
DESCRIPTION:
URL:https://breal.tv/event/dr-greenthumb-show-3/2028-03-22/
CATEGORIES:Dr. Greenthumb Show
ATTACH;FMTTYPE=image/png:https://breal.tv/wp-content/uploads/2023/02/DGTS_testcoin.png
END:VEVENT
BEGIN:VEVENT
DTSTART;TZID=America/Los_Angeles:20280323T140000
DTEND;TZID=America/Los_Angeles:20280323T160000
DTSTAMP:20260421T214703
CREATED:20230212T205406Z
LAST-MODIFIED:20230613T191748Z
UID:10001752-1837432800-1837440000@breal.tv
SUMMARY:Dr. Greenthumb Show
DESCRIPTION:
URL:https://breal.tv/event/dr-greenthumb-show-4/2028-03-23/
CATEGORIES:Dr. Greenthumb Show
ATTACH;FMTTYPE=image/png:https://breal.tv/wp-content/uploads/2023/02/DGTS_testcoin.png
END:VEVENT
BEGIN:VEVENT
DTSTART;TZID=America/Los_Angeles:20280324T140000
DTEND;TZID=America/Los_Angeles:20280324T160000
DTSTAMP:20260421T214703
CREATED:20230212T205505Z
LAST-MODIFIED:20230613T191616Z
UID:10001230-1837519200-1837526400@breal.tv
SUMMARY:Dr. Greenthumb Show
DESCRIPTION:
URL:https://breal.tv/event/dr-greenthumb-show-5/2028-03-24/
CATEGORIES:Dr. Greenthumb Show
ATTACH;FMTTYPE=image/png:https://breal.tv/wp-content/uploads/2023/02/DGTS_testcoin.png
END:VEVENT
BEGIN:VEVENT
DTSTART;TZID=America/Los_Angeles:20280327T140000
DTEND;TZID=America/Los_Angeles:20280327T160000
DTSTAMP:20260421T214703
CREATED:20230212T204113Z
LAST-MODIFIED:20230613T192052Z
UID:10002800-1837778400-1837785600@breal.tv
SUMMARY:Dr. Greenthumb Show
DESCRIPTION:
URL:https://breal.tv/event/dr-greenthumb-show/2028-03-27/
CATEGORIES:Dr. Greenthumb Show
ATTACH;FMTTYPE=image/png:https://breal.tv/wp-content/uploads/2023/02/DGTS_testcoin.png
END:VEVENT
BEGIN:VEVENT
DTSTART;TZID=America/Los_Angeles:20280328T140000
DTEND;TZID=America/Los_Angeles:20280328T160000
DTSTAMP:20260421T214703
CREATED:20230212T204655Z
LAST-MODIFIED:20230613T192003Z
UID:10002538-1837864800-1837872000@breal.tv
SUMMARY:Dr. Greenthumb Show
DESCRIPTION:
URL:https://breal.tv/event/dr-greenthumb-show-2/2028-03-28/
CATEGORIES:Dr. Greenthumb Show
ATTACH;FMTTYPE=image/png:https://breal.tv/wp-content/uploads/2023/02/DGTS_testcoin.png
END:VEVENT
BEGIN:VEVENT
DTSTART;TZID=America/Los_Angeles:20280329T140000
DTEND;TZID=America/Los_Angeles:20280329T160000
DTSTAMP:20260421T214703
CREATED:20230212T204755Z
LAST-MODIFIED:20230613T191844Z
UID:10002014-1837951200-1837958400@breal.tv
SUMMARY:Dr. Greenthumb Show
DESCRIPTION:
URL:https://breal.tv/event/dr-greenthumb-show-3/2028-03-29/
CATEGORIES:Dr. Greenthumb Show
ATTACH;FMTTYPE=image/png:https://breal.tv/wp-content/uploads/2023/02/DGTS_testcoin.png
END:VEVENT
BEGIN:VEVENT
DTSTART;TZID=America/Los_Angeles:20280330T140000
DTEND;TZID=America/Los_Angeles:20280330T160000
DTSTAMP:20260421T214703
CREATED:20230212T205406Z
LAST-MODIFIED:20230613T191748Z
UID:10001753-1838037600-1838044800@breal.tv
SUMMARY:Dr. Greenthumb Show
DESCRIPTION:
URL:https://breal.tv/event/dr-greenthumb-show-4/2028-03-30/
CATEGORIES:Dr. Greenthumb Show
ATTACH;FMTTYPE=image/png:https://breal.tv/wp-content/uploads/2023/02/DGTS_testcoin.png
END:VEVENT
BEGIN:VEVENT
DTSTART;TZID=America/Los_Angeles:20280331T140000
DTEND;TZID=America/Los_Angeles:20280331T160000
DTSTAMP:20260421T214703
CREATED:20230212T205505Z
LAST-MODIFIED:20230613T191616Z
UID:10001231-1838124000-1838131200@breal.tv
SUMMARY:Dr. Greenthumb Show
DESCRIPTION:
URL:https://breal.tv/event/dr-greenthumb-show-5/2028-03-31/
CATEGORIES:Dr. Greenthumb Show
ATTACH;FMTTYPE=image/png:https://breal.tv/wp-content/uploads/2023/02/DGTS_testcoin.png
END:VEVENT
BEGIN:VEVENT
DTSTART;TZID=America/Los_Angeles:20280403T140000
DTEND;TZID=America/Los_Angeles:20280403T160000
DTSTAMP:20260421T214703
CREATED:20230212T204113Z
LAST-MODIFIED:20230613T192052Z
UID:10002801-1838383200-1838390400@breal.tv
SUMMARY:Dr. Greenthumb Show
DESCRIPTION:
URL:https://breal.tv/event/dr-greenthumb-show/2028-04-03/
CATEGORIES:Dr. Greenthumb Show
ATTACH;FMTTYPE=image/png:https://breal.tv/wp-content/uploads/2023/02/DGTS_testcoin.png
END:VEVENT
BEGIN:VEVENT
DTSTART;TZID=America/Los_Angeles:20280404T140000
DTEND;TZID=America/Los_Angeles:20280404T160000
DTSTAMP:20260421T214703
CREATED:20230212T204655Z
LAST-MODIFIED:20230613T192003Z
UID:10002539-1838469600-1838476800@breal.tv
SUMMARY:Dr. Greenthumb Show
DESCRIPTION:
URL:https://breal.tv/event/dr-greenthumb-show-2/2028-04-04/
CATEGORIES:Dr. Greenthumb Show
ATTACH;FMTTYPE=image/png:https://breal.tv/wp-content/uploads/2023/02/DGTS_testcoin.png
END:VEVENT
BEGIN:VEVENT
DTSTART;TZID=America/Los_Angeles:20280405T140000
DTEND;TZID=America/Los_Angeles:20280405T160000
DTSTAMP:20260421T214703
CREATED:20230212T204755Z
LAST-MODIFIED:20230613T191844Z
UID:10002015-1838556000-1838563200@breal.tv
SUMMARY:Dr. Greenthumb Show
DESCRIPTION:
URL:https://breal.tv/event/dr-greenthumb-show-3/2028-04-05/
CATEGORIES:Dr. Greenthumb Show
ATTACH;FMTTYPE=image/png:https://breal.tv/wp-content/uploads/2023/02/DGTS_testcoin.png
END:VEVENT
BEGIN:VEVENT
DTSTART;TZID=America/Los_Angeles:20280406T140000
DTEND;TZID=America/Los_Angeles:20280406T160000
DTSTAMP:20260421T214703
CREATED:20230212T205406Z
LAST-MODIFIED:20230613T191748Z
UID:10001754-1838642400-1838649600@breal.tv
SUMMARY:Dr. Greenthumb Show
DESCRIPTION:
URL:https://breal.tv/event/dr-greenthumb-show-4/2028-04-06/
CATEGORIES:Dr. Greenthumb Show
ATTACH;FMTTYPE=image/png:https://breal.tv/wp-content/uploads/2023/02/DGTS_testcoin.png
END:VEVENT
BEGIN:VEVENT
DTSTART;TZID=America/Los_Angeles:20280407T140000
DTEND;TZID=America/Los_Angeles:20280407T160000
DTSTAMP:20260421T214703
CREATED:20230212T205505Z
LAST-MODIFIED:20230613T191616Z
UID:10001232-1838728800-1838736000@breal.tv
SUMMARY:Dr. Greenthumb Show
DESCRIPTION:
URL:https://breal.tv/event/dr-greenthumb-show-5/2028-04-07/
CATEGORIES:Dr. Greenthumb Show
ATTACH;FMTTYPE=image/png:https://breal.tv/wp-content/uploads/2023/02/DGTS_testcoin.png
END:VEVENT
BEGIN:VEVENT
DTSTART;TZID=America/Los_Angeles:20280410T140000
DTEND;TZID=America/Los_Angeles:20280410T160000
DTSTAMP:20260421T214703
CREATED:20230212T204113Z
LAST-MODIFIED:20230613T192052Z
UID:10002802-1838988000-1838995200@breal.tv
SUMMARY:Dr. Greenthumb Show
DESCRIPTION:
URL:https://breal.tv/event/dr-greenthumb-show/2028-04-10/
CATEGORIES:Dr. Greenthumb Show
ATTACH;FMTTYPE=image/png:https://breal.tv/wp-content/uploads/2023/02/DGTS_testcoin.png
END:VEVENT
BEGIN:VEVENT
DTSTART;TZID=America/Los_Angeles:20280411T140000
DTEND;TZID=America/Los_Angeles:20280411T160000
DTSTAMP:20260421T214703
CREATED:20230212T204655Z
LAST-MODIFIED:20230613T192003Z
UID:10002540-1839074400-1839081600@breal.tv
SUMMARY:Dr. Greenthumb Show
DESCRIPTION:
URL:https://breal.tv/event/dr-greenthumb-show-2/2028-04-11/
CATEGORIES:Dr. Greenthumb Show
ATTACH;FMTTYPE=image/png:https://breal.tv/wp-content/uploads/2023/02/DGTS_testcoin.png
END:VEVENT
BEGIN:VEVENT
DTSTART;TZID=America/Los_Angeles:20280412T140000
DTEND;TZID=America/Los_Angeles:20280412T160000
DTSTAMP:20260421T214703
CREATED:20230212T204755Z
LAST-MODIFIED:20230613T191844Z
UID:10002016-1839160800-1839168000@breal.tv
SUMMARY:Dr. Greenthumb Show
DESCRIPTION:
URL:https://breal.tv/event/dr-greenthumb-show-3/2028-04-12/
CATEGORIES:Dr. Greenthumb Show
ATTACH;FMTTYPE=image/png:https://breal.tv/wp-content/uploads/2023/02/DGTS_testcoin.png
END:VEVENT
BEGIN:VEVENT
DTSTART;TZID=America/Los_Angeles:20280413T140000
DTEND;TZID=America/Los_Angeles:20280413T160000
DTSTAMP:20260421T214703
CREATED:20230212T205406Z
LAST-MODIFIED:20230613T191748Z
UID:10001755-1839247200-1839254400@breal.tv
SUMMARY:Dr. Greenthumb Show
DESCRIPTION:
URL:https://breal.tv/event/dr-greenthumb-show-4/2028-04-13/
CATEGORIES:Dr. Greenthumb Show
ATTACH;FMTTYPE=image/png:https://breal.tv/wp-content/uploads/2023/02/DGTS_testcoin.png
END:VEVENT
BEGIN:VEVENT
DTSTART;TZID=America/Los_Angeles:20280414T140000
DTEND;TZID=America/Los_Angeles:20280414T160000
DTSTAMP:20260421T214703
CREATED:20230212T205505Z
LAST-MODIFIED:20230613T191616Z
UID:10001233-1839333600-1839340800@breal.tv
SUMMARY:Dr. Greenthumb Show
DESCRIPTION:
URL:https://breal.tv/event/dr-greenthumb-show-5/2028-04-14/
CATEGORIES:Dr. Greenthumb Show
ATTACH;FMTTYPE=image/png:https://breal.tv/wp-content/uploads/2023/02/DGTS_testcoin.png
END:VEVENT
BEGIN:VEVENT
DTSTART;TZID=America/Los_Angeles:20280417T140000
DTEND;TZID=America/Los_Angeles:20280417T160000
DTSTAMP:20260421T214703
CREATED:20230212T204113Z
LAST-MODIFIED:20230613T192052Z
UID:10002803-1839592800-1839600000@breal.tv
SUMMARY:Dr. Greenthumb Show
DESCRIPTION:
URL:https://breal.tv/event/dr-greenthumb-show/2028-04-17/
CATEGORIES:Dr. Greenthumb Show
ATTACH;FMTTYPE=image/png:https://breal.tv/wp-content/uploads/2023/02/DGTS_testcoin.png
END:VEVENT
BEGIN:VEVENT
DTSTART;TZID=America/Los_Angeles:20280418T140000
DTEND;TZID=America/Los_Angeles:20280418T160000
DTSTAMP:20260421T214703
CREATED:20230212T204655Z
LAST-MODIFIED:20230613T192003Z
UID:10002541-1839679200-1839686400@breal.tv
SUMMARY:Dr. Greenthumb Show
DESCRIPTION:
URL:https://breal.tv/event/dr-greenthumb-show-2/2028-04-18/
CATEGORIES:Dr. Greenthumb Show
ATTACH;FMTTYPE=image/png:https://breal.tv/wp-content/uploads/2023/02/DGTS_testcoin.png
END:VEVENT
BEGIN:VEVENT
DTSTART;TZID=America/Los_Angeles:20280419T140000
DTEND;TZID=America/Los_Angeles:20280419T160000
DTSTAMP:20260421T214703
CREATED:20230212T204755Z
LAST-MODIFIED:20230613T191844Z
UID:10002017-1839765600-1839772800@breal.tv
SUMMARY:Dr. Greenthumb Show
DESCRIPTION:
URL:https://breal.tv/event/dr-greenthumb-show-3/2028-04-19/
CATEGORIES:Dr. Greenthumb Show
ATTACH;FMTTYPE=image/png:https://breal.tv/wp-content/uploads/2023/02/DGTS_testcoin.png
END:VEVENT
BEGIN:VEVENT
DTSTART;TZID=America/Los_Angeles:20280420T140000
DTEND;TZID=America/Los_Angeles:20280420T160000
DTSTAMP:20260421T214703
CREATED:20230212T205406Z
LAST-MODIFIED:20230613T191748Z
UID:10001756-1839852000-1839859200@breal.tv
SUMMARY:Dr. Greenthumb Show
DESCRIPTION:
URL:https://breal.tv/event/dr-greenthumb-show-4/2028-04-20/
CATEGORIES:Dr. Greenthumb Show
ATTACH;FMTTYPE=image/png:https://breal.tv/wp-content/uploads/2023/02/DGTS_testcoin.png
END:VEVENT
END:VCALENDAR