BEGIN:VCALENDAR
VERSION:2.0
PRODID:-//Brealtv - ECPv6.10.3//NONSGML v1.0//EN
CALSCALE:GREGORIAN
METHOD:PUBLISH
X-WR-CALNAME:Brealtv
X-ORIGINAL-URL:https://breal.tv
X-WR-CALDESC:Events for Brealtv
REFRESH-INTERVAL;VALUE=DURATION:PT1H
X-Robots-Tag:noindex
X-PUBLISHED-TTL:PT1H
BEGIN:VTIMEZONE
TZID:America/Los_Angeles
BEGIN:DAYLIGHT
TZOFFSETFROM:-0800
TZOFFSETTO:-0700
TZNAME:PDT
DTSTART:20260308T100000
END:DAYLIGHT
BEGIN:STANDARD
TZOFFSETFROM:-0700
TZOFFSETTO:-0800
TZNAME:PST
DTSTART:20261101T090000
END:STANDARD
END:VTIMEZONE
BEGIN:VEVENT
DTSTART;TZID=America/Los_Angeles:20260910T140000
DTEND;TZID=America/Los_Angeles:20260910T160000
DTSTAMP:20260425T162549
CREATED:20230212T205406Z
LAST-MODIFIED:20230613T191748Z
UID:10001672-1789048800-1789056000@breal.tv
SUMMARY:Dr. Greenthumb Show
DESCRIPTION:
URL:https://breal.tv/event/dr-greenthumb-show-4/2026-09-10/
CATEGORIES:Dr. Greenthumb Show
ATTACH;FMTTYPE=image/png:https://breal.tv/wp-content/uploads/2023/02/DGTS_testcoin.png
END:VEVENT
BEGIN:VEVENT
DTSTART;TZID=America/Los_Angeles:20260910T160000
DTEND;TZID=America/Los_Angeles:20260910T170000
DTSTAMP:20260425T162549
CREATED:20230212T205755Z
LAST-MODIFIED:20230613T191704Z
UID:10001411-1789056000-1789059600@breal.tv
SUMMARY:Dr. Greenthumb Mix Show
DESCRIPTION:
URL:https://breal.tv/event/dr-greenthumb-mix-show-2/2026-09-10/
CATEGORIES:Dr. Greenthumb Mix Show
ATTACH;FMTTYPE=image/png:https://breal.tv/wp-content/uploads/2023/02/DGTMS_greenborder.png
END:VEVENT
BEGIN:VEVENT
DTSTART;TZID=America/Los_Angeles:20260911T140000
DTEND;TZID=America/Los_Angeles:20260911T160000
DTSTAMP:20260425T162549
CREATED:20230212T205505Z
LAST-MODIFIED:20230613T191616Z
UID:10001150-1789135200-1789142400@breal.tv
SUMMARY:Dr. Greenthumb Show
DESCRIPTION:
URL:https://breal.tv/event/dr-greenthumb-show-5/2026-09-11/
CATEGORIES:Dr. Greenthumb Show
ATTACH;FMTTYPE=image/png:https://breal.tv/wp-content/uploads/2023/02/DGTS_testcoin.png
END:VEVENT
BEGIN:VEVENT
DTSTART;TZID=America/Los_Angeles:20260911T160000
DTEND;TZID=America/Los_Angeles:20260911T180000
DTSTAMP:20260425T162549
CREATED:20230212T205857Z
LAST-MODIFIED:20230613T191441Z
UID:10000889-1789142400-1789149600@breal.tv
SUMMARY:Dr. Greenthumb Mix Show
DESCRIPTION:
URL:https://breal.tv/event/dr-greenthumb-mix-show-3/2026-09-11/
CATEGORIES:Dr. Greenthumb Mix Show
ATTACH;FMTTYPE=image/png:https://breal.tv/wp-content/uploads/2023/02/DGTMS_greenborder.png
END:VEVENT
BEGIN:VEVENT
DTSTART;TZID=America/Los_Angeles:20260914T140000
DTEND;TZID=America/Los_Angeles:20260914T160000
DTSTAMP:20260425T162549
CREATED:20230212T204113Z
LAST-MODIFIED:20230613T192052Z
UID:10002720-1789394400-1789401600@breal.tv
SUMMARY:Dr. Greenthumb Show
DESCRIPTION:
URL:https://breal.tv/event/dr-greenthumb-show/2026-09-14/
CATEGORIES:Dr. Greenthumb Show
ATTACH;FMTTYPE=image/png:https://breal.tv/wp-content/uploads/2023/02/DGTS_testcoin.png
END:VEVENT
BEGIN:VEVENT
DTSTART;TZID=America/Los_Angeles:20260915T140000
DTEND;TZID=America/Los_Angeles:20260915T160000
DTSTAMP:20260425T162549
CREATED:20230212T204655Z
LAST-MODIFIED:20230613T192003Z
UID:10002458-1789480800-1789488000@breal.tv
SUMMARY:Dr. Greenthumb Show
DESCRIPTION:
URL:https://breal.tv/event/dr-greenthumb-show-2/2026-09-15/
CATEGORIES:Dr. Greenthumb Show
ATTACH;FMTTYPE=image/png:https://breal.tv/wp-content/uploads/2023/02/DGTS_testcoin.png
END:VEVENT
BEGIN:VEVENT
DTSTART;TZID=America/Los_Angeles:20260915T160000
DTEND;TZID=America/Los_Angeles:20260915T170000
DTSTAMP:20260425T162549
CREATED:20230212T205654Z
LAST-MODIFIED:20230613T191922Z
UID:10002196-1789488000-1789491600@breal.tv
SUMMARY:Dr. Greenthumb Mix Show
DESCRIPTION:
URL:https://breal.tv/event/dr-greenthumb-mix-show/2026-09-15/
CATEGORIES:Dr. Greenthumb Mix Show
ATTACH;FMTTYPE=image/png:https://breal.tv/wp-content/uploads/2023/02/DGTMS_greenborder.png
END:VEVENT
BEGIN:VEVENT
DTSTART;TZID=America/Los_Angeles:20260916T140000
DTEND;TZID=America/Los_Angeles:20260916T160000
DTSTAMP:20260425T162549
CREATED:20230212T204755Z
LAST-MODIFIED:20230613T191844Z
UID:10001934-1789567200-1789574400@breal.tv
SUMMARY:Dr. Greenthumb Show
DESCRIPTION:
URL:https://breal.tv/event/dr-greenthumb-show-3/2026-09-16/
CATEGORIES:Dr. Greenthumb Show
ATTACH;FMTTYPE=image/png:https://breal.tv/wp-content/uploads/2023/02/DGTS_testcoin.png
END:VEVENT
BEGIN:VEVENT
DTSTART;TZID=America/Los_Angeles:20260917T140000
DTEND;TZID=America/Los_Angeles:20260917T160000
DTSTAMP:20260425T162549
CREATED:20230212T205406Z
LAST-MODIFIED:20230613T191748Z
UID:10001673-1789653600-1789660800@breal.tv
SUMMARY:Dr. Greenthumb Show
DESCRIPTION:
URL:https://breal.tv/event/dr-greenthumb-show-4/2026-09-17/
CATEGORIES:Dr. Greenthumb Show
ATTACH;FMTTYPE=image/png:https://breal.tv/wp-content/uploads/2023/02/DGTS_testcoin.png
END:VEVENT
BEGIN:VEVENT
DTSTART;TZID=America/Los_Angeles:20260917T160000
DTEND;TZID=America/Los_Angeles:20260917T170000
DTSTAMP:20260425T162549
CREATED:20230212T205755Z
LAST-MODIFIED:20230613T191704Z
UID:10001412-1789660800-1789664400@breal.tv
SUMMARY:Dr. Greenthumb Mix Show
DESCRIPTION:
URL:https://breal.tv/event/dr-greenthumb-mix-show-2/2026-09-17/
CATEGORIES:Dr. Greenthumb Mix Show
ATTACH;FMTTYPE=image/png:https://breal.tv/wp-content/uploads/2023/02/DGTMS_greenborder.png
END:VEVENT
BEGIN:VEVENT
DTSTART;TZID=America/Los_Angeles:20260918T140000
DTEND;TZID=America/Los_Angeles:20260918T160000
DTSTAMP:20260425T162549
CREATED:20230212T205505Z
LAST-MODIFIED:20230613T191616Z
UID:10001151-1789740000-1789747200@breal.tv
SUMMARY:Dr. Greenthumb Show
DESCRIPTION:
URL:https://breal.tv/event/dr-greenthumb-show-5/2026-09-18/
CATEGORIES:Dr. Greenthumb Show
ATTACH;FMTTYPE=image/png:https://breal.tv/wp-content/uploads/2023/02/DGTS_testcoin.png
END:VEVENT
BEGIN:VEVENT
DTSTART;TZID=America/Los_Angeles:20260918T160000
DTEND;TZID=America/Los_Angeles:20260918T180000
DTSTAMP:20260425T162549
CREATED:20230212T205857Z
LAST-MODIFIED:20230613T191441Z
UID:10000890-1789747200-1789754400@breal.tv
SUMMARY:Dr. Greenthumb Mix Show
DESCRIPTION:
URL:https://breal.tv/event/dr-greenthumb-mix-show-3/2026-09-18/
CATEGORIES:Dr. Greenthumb Mix Show
ATTACH;FMTTYPE=image/png:https://breal.tv/wp-content/uploads/2023/02/DGTMS_greenborder.png
END:VEVENT
BEGIN:VEVENT
DTSTART;TZID=America/Los_Angeles:20260921T140000
DTEND;TZID=America/Los_Angeles:20260921T160000
DTSTAMP:20260425T162549
CREATED:20230212T204113Z
LAST-MODIFIED:20230613T192052Z
UID:10002721-1789999200-1790006400@breal.tv
SUMMARY:Dr. Greenthumb Show
DESCRIPTION:
URL:https://breal.tv/event/dr-greenthumb-show/2026-09-21/
CATEGORIES:Dr. Greenthumb Show
ATTACH;FMTTYPE=image/png:https://breal.tv/wp-content/uploads/2023/02/DGTS_testcoin.png
END:VEVENT
BEGIN:VEVENT
DTSTART;TZID=America/Los_Angeles:20260922T140000
DTEND;TZID=America/Los_Angeles:20260922T160000
DTSTAMP:20260425T162549
CREATED:20230212T204655Z
LAST-MODIFIED:20230613T192003Z
UID:10002459-1790085600-1790092800@breal.tv
SUMMARY:Dr. Greenthumb Show
DESCRIPTION:
URL:https://breal.tv/event/dr-greenthumb-show-2/2026-09-22/
CATEGORIES:Dr. Greenthumb Show
ATTACH;FMTTYPE=image/png:https://breal.tv/wp-content/uploads/2023/02/DGTS_testcoin.png
END:VEVENT
BEGIN:VEVENT
DTSTART;TZID=America/Los_Angeles:20260922T160000
DTEND;TZID=America/Los_Angeles:20260922T170000
DTSTAMP:20260425T162549
CREATED:20230212T205654Z
LAST-MODIFIED:20230613T191922Z
UID:10002197-1790092800-1790096400@breal.tv
SUMMARY:Dr. Greenthumb Mix Show
DESCRIPTION:
URL:https://breal.tv/event/dr-greenthumb-mix-show/2026-09-22/
CATEGORIES:Dr. Greenthumb Mix Show
ATTACH;FMTTYPE=image/png:https://breal.tv/wp-content/uploads/2023/02/DGTMS_greenborder.png
END:VEVENT
BEGIN:VEVENT
DTSTART;TZID=America/Los_Angeles:20260923T140000
DTEND;TZID=America/Los_Angeles:20260923T160000
DTSTAMP:20260425T162549
CREATED:20230212T204755Z
LAST-MODIFIED:20230613T191844Z
UID:10001935-1790172000-1790179200@breal.tv
SUMMARY:Dr. Greenthumb Show
DESCRIPTION:
URL:https://breal.tv/event/dr-greenthumb-show-3/2026-09-23/
CATEGORIES:Dr. Greenthumb Show
ATTACH;FMTTYPE=image/png:https://breal.tv/wp-content/uploads/2023/02/DGTS_testcoin.png
END:VEVENT
BEGIN:VEVENT
DTSTART;TZID=America/Los_Angeles:20260924T140000
DTEND;TZID=America/Los_Angeles:20260924T160000
DTSTAMP:20260425T162549
CREATED:20230212T205406Z
LAST-MODIFIED:20230613T191748Z
UID:10001674-1790258400-1790265600@breal.tv
SUMMARY:Dr. Greenthumb Show
DESCRIPTION:
URL:https://breal.tv/event/dr-greenthumb-show-4/2026-09-24/
CATEGORIES:Dr. Greenthumb Show
ATTACH;FMTTYPE=image/png:https://breal.tv/wp-content/uploads/2023/02/DGTS_testcoin.png
END:VEVENT
BEGIN:VEVENT
DTSTART;TZID=America/Los_Angeles:20260924T160000
DTEND;TZID=America/Los_Angeles:20260924T170000
DTSTAMP:20260425T162549
CREATED:20230212T205755Z
LAST-MODIFIED:20230613T191704Z
UID:10001413-1790265600-1790269200@breal.tv
SUMMARY:Dr. Greenthumb Mix Show
DESCRIPTION:
URL:https://breal.tv/event/dr-greenthumb-mix-show-2/2026-09-24/
CATEGORIES:Dr. Greenthumb Mix Show
ATTACH;FMTTYPE=image/png:https://breal.tv/wp-content/uploads/2023/02/DGTMS_greenborder.png
END:VEVENT
BEGIN:VEVENT
DTSTART;TZID=America/Los_Angeles:20260925T140000
DTEND;TZID=America/Los_Angeles:20260925T160000
DTSTAMP:20260425T162549
CREATED:20230212T205505Z
LAST-MODIFIED:20230613T191616Z
UID:10001152-1790344800-1790352000@breal.tv
SUMMARY:Dr. Greenthumb Show
DESCRIPTION:
URL:https://breal.tv/event/dr-greenthumb-show-5/2026-09-25/
CATEGORIES:Dr. Greenthumb Show
ATTACH;FMTTYPE=image/png:https://breal.tv/wp-content/uploads/2023/02/DGTS_testcoin.png
END:VEVENT
BEGIN:VEVENT
DTSTART;TZID=America/Los_Angeles:20260925T160000
DTEND;TZID=America/Los_Angeles:20260925T180000
DTSTAMP:20260425T162549
CREATED:20230212T205857Z
LAST-MODIFIED:20230613T191441Z
UID:10000891-1790352000-1790359200@breal.tv
SUMMARY:Dr. Greenthumb Mix Show
DESCRIPTION:
URL:https://breal.tv/event/dr-greenthumb-mix-show-3/2026-09-25/
CATEGORIES:Dr. Greenthumb Mix Show
ATTACH;FMTTYPE=image/png:https://breal.tv/wp-content/uploads/2023/02/DGTMS_greenborder.png
END:VEVENT
BEGIN:VEVENT
DTSTART;TZID=America/Los_Angeles:20260928T140000
DTEND;TZID=America/Los_Angeles:20260928T160000
DTSTAMP:20260425T162549
CREATED:20230212T204113Z
LAST-MODIFIED:20230613T192052Z
UID:10002722-1790604000-1790611200@breal.tv
SUMMARY:Dr. Greenthumb Show
DESCRIPTION:
URL:https://breal.tv/event/dr-greenthumb-show/2026-09-28/
CATEGORIES:Dr. Greenthumb Show
ATTACH;FMTTYPE=image/png:https://breal.tv/wp-content/uploads/2023/02/DGTS_testcoin.png
END:VEVENT
BEGIN:VEVENT
DTSTART;TZID=America/Los_Angeles:20260929T140000
DTEND;TZID=America/Los_Angeles:20260929T160000
DTSTAMP:20260425T162549
CREATED:20230212T204655Z
LAST-MODIFIED:20230613T192003Z
UID:10002460-1790690400-1790697600@breal.tv
SUMMARY:Dr. Greenthumb Show
DESCRIPTION:
URL:https://breal.tv/event/dr-greenthumb-show-2/2026-09-29/
CATEGORIES:Dr. Greenthumb Show
ATTACH;FMTTYPE=image/png:https://breal.tv/wp-content/uploads/2023/02/DGTS_testcoin.png
END:VEVENT
BEGIN:VEVENT
DTSTART;TZID=America/Los_Angeles:20260929T160000
DTEND;TZID=America/Los_Angeles:20260929T170000
DTSTAMP:20260425T162549
CREATED:20230212T205654Z
LAST-MODIFIED:20230613T191922Z
UID:10002198-1790697600-1790701200@breal.tv
SUMMARY:Dr. Greenthumb Mix Show
DESCRIPTION:
URL:https://breal.tv/event/dr-greenthumb-mix-show/2026-09-29/
CATEGORIES:Dr. Greenthumb Mix Show
ATTACH;FMTTYPE=image/png:https://breal.tv/wp-content/uploads/2023/02/DGTMS_greenborder.png
END:VEVENT
BEGIN:VEVENT
DTSTART;TZID=America/Los_Angeles:20260930T140000
DTEND;TZID=America/Los_Angeles:20260930T160000
DTSTAMP:20260425T162549
CREATED:20230212T204755Z
LAST-MODIFIED:20230613T191844Z
UID:10001936-1790776800-1790784000@breal.tv
SUMMARY:Dr. Greenthumb Show
DESCRIPTION:
URL:https://breal.tv/event/dr-greenthumb-show-3/2026-09-30/
CATEGORIES:Dr. Greenthumb Show
ATTACH;FMTTYPE=image/png:https://breal.tv/wp-content/uploads/2023/02/DGTS_testcoin.png
END:VEVENT
BEGIN:VEVENT
DTSTART;TZID=America/Los_Angeles:20261001T140000
DTEND;TZID=America/Los_Angeles:20261001T160000
DTSTAMP:20260425T162549
CREATED:20230212T205406Z
LAST-MODIFIED:20230613T191748Z
UID:10001675-1790863200-1790870400@breal.tv
SUMMARY:Dr. Greenthumb Show
DESCRIPTION:
URL:https://breal.tv/event/dr-greenthumb-show-4/2026-10-01/
CATEGORIES:Dr. Greenthumb Show
ATTACH;FMTTYPE=image/png:https://breal.tv/wp-content/uploads/2023/02/DGTS_testcoin.png
END:VEVENT
BEGIN:VEVENT
DTSTART;TZID=America/Los_Angeles:20261001T160000
DTEND;TZID=America/Los_Angeles:20261001T170000
DTSTAMP:20260425T162549
CREATED:20230212T205755Z
LAST-MODIFIED:20230613T191704Z
UID:10001414-1790870400-1790874000@breal.tv
SUMMARY:Dr. Greenthumb Mix Show
DESCRIPTION:
URL:https://breal.tv/event/dr-greenthumb-mix-show-2/2026-10-01/
CATEGORIES:Dr. Greenthumb Mix Show
ATTACH;FMTTYPE=image/png:https://breal.tv/wp-content/uploads/2023/02/DGTMS_greenborder.png
END:VEVENT
BEGIN:VEVENT
DTSTART;TZID=America/Los_Angeles:20261002T140000
DTEND;TZID=America/Los_Angeles:20261002T160000
DTSTAMP:20260425T162549
CREATED:20230212T205505Z
LAST-MODIFIED:20230613T191616Z
UID:10001153-1790949600-1790956800@breal.tv
SUMMARY:Dr. Greenthumb Show
DESCRIPTION:
URL:https://breal.tv/event/dr-greenthumb-show-5/2026-10-02/
CATEGORIES:Dr. Greenthumb Show
ATTACH;FMTTYPE=image/png:https://breal.tv/wp-content/uploads/2023/02/DGTS_testcoin.png
END:VEVENT
BEGIN:VEVENT
DTSTART;TZID=America/Los_Angeles:20261002T160000
DTEND;TZID=America/Los_Angeles:20261002T180000
DTSTAMP:20260425T162549
CREATED:20230212T205857Z
LAST-MODIFIED:20230613T191441Z
UID:10000892-1790956800-1790964000@breal.tv
SUMMARY:Dr. Greenthumb Mix Show
DESCRIPTION:
URL:https://breal.tv/event/dr-greenthumb-mix-show-3/2026-10-02/
CATEGORIES:Dr. Greenthumb Mix Show
ATTACH;FMTTYPE=image/png:https://breal.tv/wp-content/uploads/2023/02/DGTMS_greenborder.png
END:VEVENT
BEGIN:VEVENT
DTSTART;TZID=America/Los_Angeles:20261005T140000
DTEND;TZID=America/Los_Angeles:20261005T160000
DTSTAMP:20260425T162549
CREATED:20230212T204113Z
LAST-MODIFIED:20230613T192052Z
UID:10002723-1791208800-1791216000@breal.tv
SUMMARY:Dr. Greenthumb Show
DESCRIPTION:
URL:https://breal.tv/event/dr-greenthumb-show/2026-10-05/
CATEGORIES:Dr. Greenthumb Show
ATTACH;FMTTYPE=image/png:https://breal.tv/wp-content/uploads/2023/02/DGTS_testcoin.png
END:VEVENT
BEGIN:VEVENT
DTSTART;TZID=America/Los_Angeles:20261006T140000
DTEND;TZID=America/Los_Angeles:20261006T160000
DTSTAMP:20260425T162549
CREATED:20230212T204655Z
LAST-MODIFIED:20230613T192003Z
UID:10002461-1791295200-1791302400@breal.tv
SUMMARY:Dr. Greenthumb Show
DESCRIPTION:
URL:https://breal.tv/event/dr-greenthumb-show-2/2026-10-06/
CATEGORIES:Dr. Greenthumb Show
ATTACH;FMTTYPE=image/png:https://breal.tv/wp-content/uploads/2023/02/DGTS_testcoin.png
END:VEVENT
END:VCALENDAR