BEGIN:VCALENDAR
VERSION:2.0
PRODID:-//Brealtv - ECPv6.10.3//NONSGML v1.0//EN
CALSCALE:GREGORIAN
METHOD:PUBLISH
X-ORIGINAL-URL:https://breal.tv
X-WR-CALDESC:Events for Brealtv
REFRESH-INTERVAL;VALUE=DURATION:PT1H
X-Robots-Tag:noindex
X-PUBLISHED-TTL:PT1H
BEGIN:VTIMEZONE
TZID:America/Los_Angeles
BEGIN:DAYLIGHT
TZOFFSETFROM:-0800
TZOFFSETTO:-0700
TZNAME:PDT
DTSTART:20270314T100000
END:DAYLIGHT
BEGIN:STANDARD
TZOFFSETFROM:-0700
TZOFFSETTO:-0800
TZNAME:PST
DTSTART:20271107T090000
END:STANDARD
END:VTIMEZONE
BEGIN:VEVENT
DTSTART;TZID=America/Los_Angeles:20270818T140000
DTEND;TZID=America/Los_Angeles:20270818T160000
DTSTAMP:20260422T081145
CREATED:20230212T204755Z
LAST-MODIFIED:20230613T191844Z
UID:10001982-1818597600-1818604800@breal.tv
SUMMARY:Dr. Greenthumb Show
DESCRIPTION:
URL:https://breal.tv/event/dr-greenthumb-show-3/2027-08-18/
CATEGORIES:Dr. Greenthumb Show
ATTACH;FMTTYPE=image/png:https://breal.tv/wp-content/uploads/2023/02/DGTS_testcoin.png
END:VEVENT
BEGIN:VEVENT
DTSTART;TZID=America/Los_Angeles:20270819T140000
DTEND;TZID=America/Los_Angeles:20270819T160000
DTSTAMP:20260422T081145
CREATED:20230212T205406Z
LAST-MODIFIED:20230613T191748Z
UID:10001721-1818684000-1818691200@breal.tv
SUMMARY:Dr. Greenthumb Show
DESCRIPTION:
URL:https://breal.tv/event/dr-greenthumb-show-4/2027-08-19/
CATEGORIES:Dr. Greenthumb Show
ATTACH;FMTTYPE=image/png:https://breal.tv/wp-content/uploads/2023/02/DGTS_testcoin.png
END:VEVENT
BEGIN:VEVENT
DTSTART;TZID=America/Los_Angeles:20270819T160000
DTEND;TZID=America/Los_Angeles:20270819T170000
DTSTAMP:20260422T081145
CREATED:20230212T205755Z
LAST-MODIFIED:20230613T191704Z
UID:10001460-1818691200-1818694800@breal.tv
SUMMARY:Dr. Greenthumb Mix Show
DESCRIPTION:
URL:https://breal.tv/event/dr-greenthumb-mix-show-2/2027-08-19/
CATEGORIES:Dr. Greenthumb Mix Show
ATTACH;FMTTYPE=image/png:https://breal.tv/wp-content/uploads/2023/02/DGTMS_greenborder.png
END:VEVENT
BEGIN:VEVENT
DTSTART;TZID=America/Los_Angeles:20270820T140000
DTEND;TZID=America/Los_Angeles:20270820T160000
DTSTAMP:20260422T081145
CREATED:20230212T205505Z
LAST-MODIFIED:20230613T191616Z
UID:10001199-1818770400-1818777600@breal.tv
SUMMARY:Dr. Greenthumb Show
DESCRIPTION:
URL:https://breal.tv/event/dr-greenthumb-show-5/2027-08-20/
CATEGORIES:Dr. Greenthumb Show
ATTACH;FMTTYPE=image/png:https://breal.tv/wp-content/uploads/2023/02/DGTS_testcoin.png
END:VEVENT
BEGIN:VEVENT
DTSTART;TZID=America/Los_Angeles:20270820T160000
DTEND;TZID=America/Los_Angeles:20270820T180000
DTSTAMP:20260422T081145
CREATED:20230212T205857Z
LAST-MODIFIED:20230613T191441Z
UID:10000938-1818777600-1818784800@breal.tv
SUMMARY:Dr. Greenthumb Mix Show
DESCRIPTION:
URL:https://breal.tv/event/dr-greenthumb-mix-show-3/2027-08-20/
CATEGORIES:Dr. Greenthumb Mix Show
ATTACH;FMTTYPE=image/png:https://breal.tv/wp-content/uploads/2023/02/DGTMS_greenborder.png
END:VEVENT
BEGIN:VEVENT
DTSTART;TZID=America/Los_Angeles:20270823T140000
DTEND;TZID=America/Los_Angeles:20270823T160000
DTSTAMP:20260422T081145
CREATED:20230212T204113Z
LAST-MODIFIED:20230613T192052Z
UID:10002769-1819029600-1819036800@breal.tv
SUMMARY:Dr. Greenthumb Show
DESCRIPTION:
URL:https://breal.tv/event/dr-greenthumb-show/2027-08-23/
CATEGORIES:Dr. Greenthumb Show
ATTACH;FMTTYPE=image/png:https://breal.tv/wp-content/uploads/2023/02/DGTS_testcoin.png
END:VEVENT
BEGIN:VEVENT
DTSTART;TZID=America/Los_Angeles:20270824T140000
DTEND;TZID=America/Los_Angeles:20270824T160000
DTSTAMP:20260422T081145
CREATED:20230212T204655Z
LAST-MODIFIED:20230613T192003Z
UID:10002507-1819116000-1819123200@breal.tv
SUMMARY:Dr. Greenthumb Show
DESCRIPTION:
URL:https://breal.tv/event/dr-greenthumb-show-2/2027-08-24/
CATEGORIES:Dr. Greenthumb Show
ATTACH;FMTTYPE=image/png:https://breal.tv/wp-content/uploads/2023/02/DGTS_testcoin.png
END:VEVENT
BEGIN:VEVENT
DTSTART;TZID=America/Los_Angeles:20270824T160000
DTEND;TZID=America/Los_Angeles:20270824T170000
DTSTAMP:20260422T081145
CREATED:20230212T205654Z
LAST-MODIFIED:20230613T191922Z
UID:10002245-1819123200-1819126800@breal.tv
SUMMARY:Dr. Greenthumb Mix Show
DESCRIPTION:
URL:https://breal.tv/event/dr-greenthumb-mix-show/2027-08-24/
CATEGORIES:Dr. Greenthumb Mix Show
ATTACH;FMTTYPE=image/png:https://breal.tv/wp-content/uploads/2023/02/DGTMS_greenborder.png
END:VEVENT
BEGIN:VEVENT
DTSTART;TZID=America/Los_Angeles:20270825T140000
DTEND;TZID=America/Los_Angeles:20270825T160000
DTSTAMP:20260422T081145
CREATED:20230212T204755Z
LAST-MODIFIED:20230613T191844Z
UID:10001983-1819202400-1819209600@breal.tv
SUMMARY:Dr. Greenthumb Show
DESCRIPTION:
URL:https://breal.tv/event/dr-greenthumb-show-3/2027-08-25/
CATEGORIES:Dr. Greenthumb Show
ATTACH;FMTTYPE=image/png:https://breal.tv/wp-content/uploads/2023/02/DGTS_testcoin.png
END:VEVENT
BEGIN:VEVENT
DTSTART;TZID=America/Los_Angeles:20270826T140000
DTEND;TZID=America/Los_Angeles:20270826T160000
DTSTAMP:20260422T081145
CREATED:20230212T205406Z
LAST-MODIFIED:20230613T191748Z
UID:10001722-1819288800-1819296000@breal.tv
SUMMARY:Dr. Greenthumb Show
DESCRIPTION:
URL:https://breal.tv/event/dr-greenthumb-show-4/2027-08-26/
CATEGORIES:Dr. Greenthumb Show
ATTACH;FMTTYPE=image/png:https://breal.tv/wp-content/uploads/2023/02/DGTS_testcoin.png
END:VEVENT
BEGIN:VEVENT
DTSTART;TZID=America/Los_Angeles:20270826T160000
DTEND;TZID=America/Los_Angeles:20270826T170000
DTSTAMP:20260422T081145
CREATED:20230212T205755Z
LAST-MODIFIED:20230613T191704Z
UID:10001461-1819296000-1819299600@breal.tv
SUMMARY:Dr. Greenthumb Mix Show
DESCRIPTION:
URL:https://breal.tv/event/dr-greenthumb-mix-show-2/2027-08-26/
CATEGORIES:Dr. Greenthumb Mix Show
ATTACH;FMTTYPE=image/png:https://breal.tv/wp-content/uploads/2023/02/DGTMS_greenborder.png
END:VEVENT
BEGIN:VEVENT
DTSTART;TZID=America/Los_Angeles:20270827T140000
DTEND;TZID=America/Los_Angeles:20270827T160000
DTSTAMP:20260422T081145
CREATED:20230212T205505Z
LAST-MODIFIED:20230613T191616Z
UID:10001200-1819375200-1819382400@breal.tv
SUMMARY:Dr. Greenthumb Show
DESCRIPTION:
URL:https://breal.tv/event/dr-greenthumb-show-5/2027-08-27/
CATEGORIES:Dr. Greenthumb Show
ATTACH;FMTTYPE=image/png:https://breal.tv/wp-content/uploads/2023/02/DGTS_testcoin.png
END:VEVENT
BEGIN:VEVENT
DTSTART;TZID=America/Los_Angeles:20270827T160000
DTEND;TZID=America/Los_Angeles:20270827T180000
DTSTAMP:20260422T081145
CREATED:20230212T205857Z
LAST-MODIFIED:20230613T191441Z
UID:10000939-1819382400-1819389600@breal.tv
SUMMARY:Dr. Greenthumb Mix Show
DESCRIPTION:
URL:https://breal.tv/event/dr-greenthumb-mix-show-3/2027-08-27/
CATEGORIES:Dr. Greenthumb Mix Show
ATTACH;FMTTYPE=image/png:https://breal.tv/wp-content/uploads/2023/02/DGTMS_greenborder.png
END:VEVENT
BEGIN:VEVENT
DTSTART;TZID=America/Los_Angeles:20270830T140000
DTEND;TZID=America/Los_Angeles:20270830T160000
DTSTAMP:20260422T081146
CREATED:20230212T204113Z
LAST-MODIFIED:20230613T192052Z
UID:10002770-1819634400-1819641600@breal.tv
SUMMARY:Dr. Greenthumb Show
DESCRIPTION:
URL:https://breal.tv/event/dr-greenthumb-show/2027-08-30/
CATEGORIES:Dr. Greenthumb Show
ATTACH;FMTTYPE=image/png:https://breal.tv/wp-content/uploads/2023/02/DGTS_testcoin.png
END:VEVENT
BEGIN:VEVENT
DTSTART;TZID=America/Los_Angeles:20270831T140000
DTEND;TZID=America/Los_Angeles:20270831T160000
DTSTAMP:20260422T081146
CREATED:20230212T204655Z
LAST-MODIFIED:20230613T192003Z
UID:10002508-1819720800-1819728000@breal.tv
SUMMARY:Dr. Greenthumb Show
DESCRIPTION:
URL:https://breal.tv/event/dr-greenthumb-show-2/2027-08-31/
CATEGORIES:Dr. Greenthumb Show
ATTACH;FMTTYPE=image/png:https://breal.tv/wp-content/uploads/2023/02/DGTS_testcoin.png
END:VEVENT
BEGIN:VEVENT
DTSTART;TZID=America/Los_Angeles:20270831T160000
DTEND;TZID=America/Los_Angeles:20270831T170000
DTSTAMP:20260422T081146
CREATED:20230212T205654Z
LAST-MODIFIED:20230613T191922Z
UID:10002246-1819728000-1819731600@breal.tv
SUMMARY:Dr. Greenthumb Mix Show
DESCRIPTION:
URL:https://breal.tv/event/dr-greenthumb-mix-show/2027-08-31/
CATEGORIES:Dr. Greenthumb Mix Show
ATTACH;FMTTYPE=image/png:https://breal.tv/wp-content/uploads/2023/02/DGTMS_greenborder.png
END:VEVENT
BEGIN:VEVENT
DTSTART;TZID=America/Los_Angeles:20270901T140000
DTEND;TZID=America/Los_Angeles:20270901T160000
DTSTAMP:20260422T081146
CREATED:20230212T204755Z
LAST-MODIFIED:20230613T191844Z
UID:10001984-1819807200-1819814400@breal.tv
SUMMARY:Dr. Greenthumb Show
DESCRIPTION:
URL:https://breal.tv/event/dr-greenthumb-show-3/2027-09-01/
CATEGORIES:Dr. Greenthumb Show
ATTACH;FMTTYPE=image/png:https://breal.tv/wp-content/uploads/2023/02/DGTS_testcoin.png
END:VEVENT
BEGIN:VEVENT
DTSTART;TZID=America/Los_Angeles:20270902T140000
DTEND;TZID=America/Los_Angeles:20270902T160000
DTSTAMP:20260422T081146
CREATED:20230212T205406Z
LAST-MODIFIED:20230613T191748Z
UID:10001723-1819893600-1819900800@breal.tv
SUMMARY:Dr. Greenthumb Show
DESCRIPTION:
URL:https://breal.tv/event/dr-greenthumb-show-4/2027-09-02/
CATEGORIES:Dr. Greenthumb Show
ATTACH;FMTTYPE=image/png:https://breal.tv/wp-content/uploads/2023/02/DGTS_testcoin.png
END:VEVENT
BEGIN:VEVENT
DTSTART;TZID=America/Los_Angeles:20270902T160000
DTEND;TZID=America/Los_Angeles:20270902T170000
DTSTAMP:20260422T081146
CREATED:20230212T205755Z
LAST-MODIFIED:20230613T191704Z
UID:10001462-1819900800-1819904400@breal.tv
SUMMARY:Dr. Greenthumb Mix Show
DESCRIPTION:
URL:https://breal.tv/event/dr-greenthumb-mix-show-2/2027-09-02/
CATEGORIES:Dr. Greenthumb Mix Show
ATTACH;FMTTYPE=image/png:https://breal.tv/wp-content/uploads/2023/02/DGTMS_greenborder.png
END:VEVENT
BEGIN:VEVENT
DTSTART;TZID=America/Los_Angeles:20270903T140000
DTEND;TZID=America/Los_Angeles:20270903T160000
DTSTAMP:20260422T081146
CREATED:20230212T205505Z
LAST-MODIFIED:20230613T191616Z
UID:10001201-1819980000-1819987200@breal.tv
SUMMARY:Dr. Greenthumb Show
DESCRIPTION:
URL:https://breal.tv/event/dr-greenthumb-show-5/2027-09-03/
CATEGORIES:Dr. Greenthumb Show
ATTACH;FMTTYPE=image/png:https://breal.tv/wp-content/uploads/2023/02/DGTS_testcoin.png
END:VEVENT
BEGIN:VEVENT
DTSTART;TZID=America/Los_Angeles:20270903T160000
DTEND;TZID=America/Los_Angeles:20270903T180000
DTSTAMP:20260422T081146
CREATED:20230212T205857Z
LAST-MODIFIED:20230613T191441Z
UID:10000940-1819987200-1819994400@breal.tv
SUMMARY:Dr. Greenthumb Mix Show
DESCRIPTION:
URL:https://breal.tv/event/dr-greenthumb-mix-show-3/2027-09-03/
CATEGORIES:Dr. Greenthumb Mix Show
ATTACH;FMTTYPE=image/png:https://breal.tv/wp-content/uploads/2023/02/DGTMS_greenborder.png
END:VEVENT
BEGIN:VEVENT
DTSTART;TZID=America/Los_Angeles:20270906T140000
DTEND;TZID=America/Los_Angeles:20270906T160000
DTSTAMP:20260422T081146
CREATED:20230212T204113Z
LAST-MODIFIED:20230613T192052Z
UID:10002771-1820239200-1820246400@breal.tv
SUMMARY:Dr. Greenthumb Show
DESCRIPTION:
URL:https://breal.tv/event/dr-greenthumb-show/2027-09-06/
CATEGORIES:Dr. Greenthumb Show
ATTACH;FMTTYPE=image/png:https://breal.tv/wp-content/uploads/2023/02/DGTS_testcoin.png
END:VEVENT
BEGIN:VEVENT
DTSTART;TZID=America/Los_Angeles:20270907T140000
DTEND;TZID=America/Los_Angeles:20270907T160000
DTSTAMP:20260422T081146
CREATED:20230212T204655Z
LAST-MODIFIED:20230613T192003Z
UID:10002509-1820325600-1820332800@breal.tv
SUMMARY:Dr. Greenthumb Show
DESCRIPTION:
URL:https://breal.tv/event/dr-greenthumb-show-2/2027-09-07/
CATEGORIES:Dr. Greenthumb Show
ATTACH;FMTTYPE=image/png:https://breal.tv/wp-content/uploads/2023/02/DGTS_testcoin.png
END:VEVENT
BEGIN:VEVENT
DTSTART;TZID=America/Los_Angeles:20270907T160000
DTEND;TZID=America/Los_Angeles:20270907T170000
DTSTAMP:20260422T081146
CREATED:20230212T205654Z
LAST-MODIFIED:20230613T191922Z
UID:10002247-1820332800-1820336400@breal.tv
SUMMARY:Dr. Greenthumb Mix Show
DESCRIPTION:
URL:https://breal.tv/event/dr-greenthumb-mix-show/2027-09-07/
CATEGORIES:Dr. Greenthumb Mix Show
ATTACH;FMTTYPE=image/png:https://breal.tv/wp-content/uploads/2023/02/DGTMS_greenborder.png
END:VEVENT
BEGIN:VEVENT
DTSTART;TZID=America/Los_Angeles:20270908T140000
DTEND;TZID=America/Los_Angeles:20270908T160000
DTSTAMP:20260422T081146
CREATED:20230212T204755Z
LAST-MODIFIED:20230613T191844Z
UID:10001985-1820412000-1820419200@breal.tv
SUMMARY:Dr. Greenthumb Show
DESCRIPTION:
URL:https://breal.tv/event/dr-greenthumb-show-3/2027-09-08/
CATEGORIES:Dr. Greenthumb Show
ATTACH;FMTTYPE=image/png:https://breal.tv/wp-content/uploads/2023/02/DGTS_testcoin.png
END:VEVENT
BEGIN:VEVENT
DTSTART;TZID=America/Los_Angeles:20270909T140000
DTEND;TZID=America/Los_Angeles:20270909T160000
DTSTAMP:20260422T081146
CREATED:20230212T205406Z
LAST-MODIFIED:20230613T191748Z
UID:10001724-1820498400-1820505600@breal.tv
SUMMARY:Dr. Greenthumb Show
DESCRIPTION:
URL:https://breal.tv/event/dr-greenthumb-show-4/2027-09-09/
CATEGORIES:Dr. Greenthumb Show
ATTACH;FMTTYPE=image/png:https://breal.tv/wp-content/uploads/2023/02/DGTS_testcoin.png
END:VEVENT
BEGIN:VEVENT
DTSTART;TZID=America/Los_Angeles:20270909T160000
DTEND;TZID=America/Los_Angeles:20270909T170000
DTSTAMP:20260422T081146
CREATED:20230212T205755Z
LAST-MODIFIED:20230613T191704Z
UID:10001463-1820505600-1820509200@breal.tv
SUMMARY:Dr. Greenthumb Mix Show
DESCRIPTION:
URL:https://breal.tv/event/dr-greenthumb-mix-show-2/2027-09-09/
CATEGORIES:Dr. Greenthumb Mix Show
ATTACH;FMTTYPE=image/png:https://breal.tv/wp-content/uploads/2023/02/DGTMS_greenborder.png
END:VEVENT
BEGIN:VEVENT
DTSTART;TZID=America/Los_Angeles:20270910T140000
DTEND;TZID=America/Los_Angeles:20270910T160000
DTSTAMP:20260422T081146
CREATED:20230212T205505Z
LAST-MODIFIED:20230613T191616Z
UID:10001202-1820584800-1820592000@breal.tv
SUMMARY:Dr. Greenthumb Show
DESCRIPTION:
URL:https://breal.tv/event/dr-greenthumb-show-5/2027-09-10/
CATEGORIES:Dr. Greenthumb Show
ATTACH;FMTTYPE=image/png:https://breal.tv/wp-content/uploads/2023/02/DGTS_testcoin.png
END:VEVENT
BEGIN:VEVENT
DTSTART;TZID=America/Los_Angeles:20270910T160000
DTEND;TZID=America/Los_Angeles:20270910T180000
DTSTAMP:20260422T081146
CREATED:20230212T205857Z
LAST-MODIFIED:20230613T191441Z
UID:10000941-1820592000-1820599200@breal.tv
SUMMARY:Dr. Greenthumb Mix Show
DESCRIPTION:
URL:https://breal.tv/event/dr-greenthumb-mix-show-3/2027-09-10/
CATEGORIES:Dr. Greenthumb Mix Show
ATTACH;FMTTYPE=image/png:https://breal.tv/wp-content/uploads/2023/02/DGTMS_greenborder.png
END:VEVENT
BEGIN:VEVENT
DTSTART;TZID=America/Los_Angeles:20270913T140000
DTEND;TZID=America/Los_Angeles:20270913T160000
DTSTAMP:20260422T081146
CREATED:20230212T204113Z
LAST-MODIFIED:20230613T192052Z
UID:10002772-1820844000-1820851200@breal.tv
SUMMARY:Dr. Greenthumb Show
DESCRIPTION:
URL:https://breal.tv/event/dr-greenthumb-show/2027-09-13/
CATEGORIES:Dr. Greenthumb Show
ATTACH;FMTTYPE=image/png:https://breal.tv/wp-content/uploads/2023/02/DGTS_testcoin.png
END:VEVENT
END:VCALENDAR